BEGIN:VCALENDAR
VERSION:2.0
PRODID:-//ChamberMaster//Event Calendar 2.0//EN
METHOD:PUBLISH
X-PUBLISHED-TTL:P3D
REFRESH-INTERVAL:P3D
CALSCALE:GREGORIAN
BEGIN:VEVENT
DTSTART:20170203T150000Z
DTEND:20170203T160000Z
X-MICROSOFT-CDO-ALLDAYEVENT:FALSE
SUMMARY:MBA Development Officials' Forum Meeting
DESCRIPTION:MBA-Development Officials'\n\nFORUM MEETING\n\nFriday\, February 3@ 7:00 a.m.\n\nPierce County Annex--2401 S 35th St\, Tacoma\, WA 98409\n\n \nThe Forum meeting is an opportunity for MBA members and representatives from jurisdictions throughout Pierce County to meet in person and discuss issues that affect residential construction in a friendly atmosphere.  All MBA members are welcome to attend this event.\n\n\n\n\n\nIf you would like to add any issues to this or future agendas\, or if you have questions regarding these issues\, please contact Jeremiah Lafranca\, MBA Government Affairs Director\, at (253) 254-0085.
X-ALT-DESC;FMTTYPE=text/html:<h1 align="center" style="text-align: center\;"><strong><span style="font-size: medium\;"><span style="font-family: calibri\,sans-serif\;"><span style="color: black\;">MBA-Development Officials&rsquo\;</span></span></span></strong></h1>\n\n<h1 align="center" style="text-align: center\;"><span style="font-family: calibri\,sans-serif\;"><span style="color: black\;"><strong><span style="font-size: medium\;">FORUM MEETING</span></strong></span></span></h1>\n\n<div style="text-align: center\;"><strong><span style="font-family: calibri\,sans-serif\;"><span style="font-size: medium\;">Friday\, February 3@ 7:00 a.m.<br />\nPierce County Annex--2401 S 35th St\, Tacoma\, WA 98409<br />\n&nbsp\;</span></span></strong></div>\n<span style="font-size: medium\;"><span style="font-family: calibri\,sans-serif\;"><span style="color: black\;">The Forum meeting is an opportunity for MBA members and representatives from jurisdictions throughout Pierce County to meet in person and discuss issues that affect residential construction in a friendly atmosphere.&nbsp\; <strong><em>All MBA members are welcome to attend this event.</em></strong></span></span></span><br />\n<br />\n<br />\n<span style="font-size: medium\;"><strong><span style="font-family: calibri\,sans-serif\;"><span style="color: black\;">If you&nbsp\;would like to add any issues to this or future agendas\, or if you have questions regarding&nbsp\;these issues\, please contact Jeremiah Lafranca\, MBA Government Affairs Director\, at (253) 254-0085.</span></span></strong></span><br />\n&nbsp\;
LOCATION:Pierce County Annex--2401 S 35th St\, Tacoma\, WA 98409
UID:e.9280.1655
SEQUENCE:3
DTSTAMP:20260422T141700Z
URL:https://members.masterbuilderspierce.com/events/details/mba-development-officials-forum-meeting-1655
END:VEVENT

END:VCALENDAR
