BEGIN:VCALENDAR
VERSION:2.0
PRODID:-//ChamberMaster//Event Calendar 2.0//EN
METHOD:PUBLISH
X-PUBLISHED-TTL:P3D
REFRESH-INTERVAL:P3D
CALSCALE:GREGORIAN
BEGIN:VEVENT
DTSTART:20161202T150000Z
DTEND:20161202T160000Z
X-MICROSOFT-CDO-ALLDAYEVENT:FALSE
SUMMARY:MBA Development Officials' Forum meeting
DESCRIPTION:MBA-Development Officials'\n\nFORUM MEETING\n\nFriday\, December 2 @ 7:00 a.m.\n\nTacoma Municipal Building: 733 Market Street\, Tacoma\, WA 98402\; Conference Room 16\n\nTHIS EVENT IS OPEN TO ALL MBA MEMBERS\n \n\nAgenda\n \n\nI.                    Introductions/Welcome to Attendees\n\n \n\nII.                  City of Tacoma presentation:\n\n \n\n	Overview of Tacomapermits.org\n\n	\n		Getting started- Tip sheets\, submittal checklists\, FAQs\n		New e-permits\n		Scheduling inspections\n		Online fee estimator\n		Resource library\n		Public notices\n	\n	\n	Overview of new permitting software Accela\n	\n		Citizen access\n		Pre-application meetings\n		Applying for permits\n		Monitoring permits\n		Scheduling inspections\n		Future improvements\n	\n	\n\n \n\nIII.                Roundtable Discussion (jurisdiction updates):\n\n \n\n	Building Permit Activity\n	Review Backlog\n	Staffing needs/changes \n\n IV.                Other Business as appropriate\n\n \n\nV.                  Adjournment \n\n \n\nThe Forum meeting is an opportunity for MBA members and representatives from jurisdictions throughout Pierce County to meet in person and discuss issues that affect residential construction in a friendly atmosphere.\n\nIf you would like to add any issues to this or future agendas\, or if you have questions regarding these issues\, please contact Jeremiah Lafranca\, MBA Government Affairs Director\, at (253) 254-0085.
X-ALT-DESC;FMTTYPE=text/html:<h1 align="center" style="text-align: center\;"><strong><span style="font-size: medium\;"><span style="font-family: calibri\,sans-serif\;"><span style="color: black\;">MBA-Development Officials&rsquo\;</span></span></span></strong></h1>\n\n<h1 align="center" style="text-align: center\;"><span style="font-family: calibri\,sans-serif\;"><span style="color: black\;"><strong><span style="font-size: medium\;">FORUM MEETING</span></strong></span></span></h1>\n\n<div style="text-align: center\;"><strong><span style="font-family: calibri\,sans-serif\;"><span style="font-size: medium\;">Friday\, December 2 @ 7:00 a.m.</span></span></strong></div>\n\n<div style="text-align: center\;"><strong><span style="font-family: calibri\,sans-serif\;"><span style="font-size: medium\;">Tacoma Municipal Building: 733 Market Street\, Tacoma\, WA 98402\; Conference Room 16</span></span></strong><br />\n<span style="color: rgb(255\, 0\, 0)\;"><span style="font-family: calibri\,sans-serif\;"><span style="font-size: medium\;"><strong><u>THIS EVENT IS OPEN TO ALL MBA MEMBERS</u></strong></span></span></span></div>\n&nbsp\;\n\n<div style="text-align: center\;"><span style="font-size: medium\;"><strong><em><span style="font-family: calibri\,sans-serif\;"><span style="color: black\;">Agenda</span></span></em></strong></span></div>\n<span style="font-size: medium\;">&nbsp\;</span><br />\n<span style="font-size: medium\;"><strong><span style="font-family: calibri\,sans-serif\;"><span style="color: black\;">I.&nbsp\;&nbsp\;&nbsp\;&nbsp\;&nbsp\;&nbsp\;&nbsp\;&nbsp\;&nbsp\;&nbsp\;&nbsp\;&nbsp\;&nbsp\;&nbsp\;&nbsp\;&nbsp\;&nbsp\;&nbsp\;&nbsp\; Introductions/Welcome to Attendees</span></span></strong></span><br />\n<span style="font-size: medium\;">&nbsp\;</span><br />\n<span style="font-size: medium\;"><strong><span style="font-family: calibri\,sans-serif\;"><span style="color: black\;">II.&nbsp\;&nbsp\;&nbsp\;&nbsp\;&nbsp\;&nbsp\;&nbsp\;&nbsp\;&nbsp\;&nbsp\;&nbsp\;&nbsp\;&nbsp\;&nbsp\;&nbsp\;&nbsp\;&nbsp\; City of Tacoma presentation:</span></span></strong></span><br />\n&nbsp\;\n<ol style="list-style-type: lower-alpha\;">\n	<li><span style="font-size: medium\;"><span style="font-family: calibri\,sans-serif\;"><span style="color: black\;">Overview of Tacomapermits.org</span></span></span>\n\n	<ol style="list-style-type: lower-alpha\;">\n		<li><span style="font-family: calibri\,sans-serif\;"><span style="font-size: medium\;">Getting started- Tip sheets\, submittal checklists\, FAQs</span></span></li>\n		<li><span style="font-size: medium\;"><span style="font-family: calibri\,sans-serif\;"><span style="color: black\;">New e-permits</span></span></span></li>\n		<li><span style="font-size: medium\;"><span style="font-family: calibri\,sans-serif\;"><span style="color: black\;">Scheduling inspections</span></span></span></li>\n		<li><span style="font-size: medium\;"><span style="font-family: calibri\,sans-serif\;"><span style="color: black\;">Online fee estimator</span></span></span></li>\n		<li><span style="font-size: medium\;"><span style="font-family: calibri\,sans-serif\;"><span style="color: black\;">Resource library</span></span></span></li>\n		<li><span style="font-size: medium\;"><span style="font-family: calibri\,sans-serif\;"><span style="color: black\;">Public notices</span></span></span></li>\n	</ol>\n	</li>\n	<li><span style="font-size: medium\;"><span style="font-family: calibri\,sans-serif\;"><span style="color: black\;">Overview of new permitting software&mdash\;Accela</span></span></span>\n	<ol style="list-style-type: lower-alpha\;">\n		<li><span style="font-size: medium\;"><span style="font-family: calibri\,sans-serif\;"><span style="color: black\;">Citizen access</span></span></span></li>\n		<li><span style="font-size: medium\;"><span style="font-family: calibri\,sans-serif\;"><span style="color: black\;">Pre-application meetings</span></span></span></li>\n		<li><span style="font-family: calibri\,sans-serif\;"><span style="font-size: medium\;">Applying for permits</span></span></li>\n		<li><span style="font-family: calibri\,sans-serif\;"><span style="font-size: medium\;">Monitoring permits</span></span></li>\n		<li><span style="font-family: calibri\,sans-serif\;"><span style="font-size: medium\;">Scheduling inspections</span></span></li>\n		<li><span style="font-family: calibri\,sans-serif\;"><span style="font-size: medium\;">Future improvements</span></span></li>\n	</ol>\n	</li>\n</ol>\n&nbsp\;<br />\n<span style="font-size: medium\;"><strong><span style="font-family: calibri\,sans-serif\;"><span style="color: black\;">III.&nbsp\;&nbsp\;&nbsp\;&nbsp\;&nbsp\;&nbsp\;&nbsp\;&nbsp\;&nbsp\;&nbsp\;&nbsp\;&nbsp\;&nbsp\;&nbsp\;&nbsp\; Roundtable Discussion (jurisdiction updates):</span></span></strong></span><br />\n&nbsp\;\n<ol style="list-style-type: lower-alpha\;">\n	<li><span style="font-family: calibri\,sans-serif\;"><span style="color: black\;"><span style="font-size: medium\;">Building Permit Activity</span></span></span></li>\n	<li><span style="font-family: calibri\,sans-serif\;"><span style="color: black\;"><span style="font-size: medium\;">Review Backlog</span></span></span></li>\n	<li><span style="font-family: calibri\,sans-serif\;"><span style="color: black\;"><span style="font-size: medium\;">Staffing needs/changes </span></span></span></li>\n</ol>\n<span style="font-size: medium\;">&nbsp\;</span><span style="font-size: medium\;"><strong><span style="font-family: calibri\,sans-serif\;"><span style="color: black\;">IV.&nbsp\;&nbsp\;&nbsp\;&nbsp\;&nbsp\;&nbsp\;&nbsp\;&nbsp\;&nbsp\;&nbsp\;&nbsp\;&nbsp\;&nbsp\;&nbsp\;&nbsp\; Other Business as appropriate</span></span></strong></span><br />\n<span style="font-size: medium\;">&nbsp\;</span><br />\n<span style="font-size: medium\;"><strong><span style="font-family: calibri\,sans-serif\;"><span style="color: black\;">V.&nbsp\;&nbsp\;&nbsp\;&nbsp\;&nbsp\;&nbsp\;&nbsp\;&nbsp\;&nbsp\;&nbsp\;&nbsp\;&nbsp\;&nbsp\;&nbsp\;&nbsp\;&nbsp\;&nbsp\; Adjournment </span></span></strong></span><br />\n<span style="font-size: medium\;">&nbsp\;</span><br />\n<span style="font-size: medium\;"><span style="font-family: calibri\,sans-serif\;"><span style="color: black\;">The Forum meeting is an opportunity for MBA members and representatives from jurisdictions throughout Pierce County to meet in person and discuss issues that affect residential construction in a friendly atmosphere.</span></span></span><br />\n<span style="font-size: medium\;"><strong><span style="font-family: calibri\,sans-serif\;"><span style="color: black\;">If you&nbsp\;would like to add any issues to this or future agendas\, or if you have questions regarding&nbsp\;these issues\, please contact Jeremiah Lafranca\, MBA Government Affairs Director\, at (253) 254-0085.</span></span></strong></span><br />\n&nbsp\;
LOCATION:Tacoma Municipal Building: 733 Market Street\, Tacoma\, WA 98402\; Conference Room 16
UID:e.9280.1513
SEQUENCE:3
DTSTAMP:20260422T171423Z
URL:https://members.masterbuilderspierce.com/events/details/mba-development-officials-forum-meeting-1513
END:VEVENT

END:VCALENDAR
