BEGIN:VCALENDAR
VERSION:2.0
PRODID:-//ChamberMaster//Event Calendar 2.0//EN
METHOD:PUBLISH
X-PUBLISHED-TTL:P3D
REFRESH-INTERVAL:P3D
CALSCALE:GREGORIAN
BEGIN:VEVENT
DTSTART:20160304T150000Z
DTEND:20160304T160000Z
X-MICROSOFT-CDO-ALLDAYEVENT:FALSE
SUMMARY:MBA Development Officials' Forum Meeting
DESCRIPTION:Agenda\n\n \n\nI.                    Introductions/Welcome to Attendees\n\n \n\nII.                  City of Lakewood presentation:\n\n\n	Overview of economic development incentives\, online permitting and Lakewood's new fee schedule.\n	Low Impact Development\n	Subdivision Ordinance revisions\n\nIII.                Roundtable Discussion (jurisdiction updates):\n\n\n\na.       Building Permit Activity \n\nb.       Review Backlog\n\nd.      Staffing needs/changes \n\n \n\nIV.                Other Business as appropriate\n\n \n\nV.                  Adjournment \n\n \n\nThe Forum meeting is an opportunity for MBA members and representatives from jurisdictions throughout Pierce County to meet in person and discuss issues that affect residential construction in a friendly atmosphere.\n\n \n\nIf you would like to add any issues to this or future agendas\, or if you have questions regarding these issues\, please contact Jeremiah Lafranca\, MBA Government Affairs Director\, at (253) 254-0085.
X-ALT-DESC;FMTTYPE=text/html:<h1 align="center" style="text-align: center\;">&nbsp\;</h1>\n&nbsp\;<span style="font-size: medium\;"><strong><em><span style="font-family: calibri\,sans-serif\;"><span style="color: black\;">Agenda</span></span></em></strong></span><br />\n<span style="font-size: medium\;">&nbsp\;</span><br />\n<span style="font-size: medium\;"><strong><span style="font-family: calibri\,sans-serif\;"><span style="color: black\;">I.&nbsp\;&nbsp\;&nbsp\;&nbsp\;&nbsp\;&nbsp\;&nbsp\;&nbsp\;&nbsp\;&nbsp\;&nbsp\;&nbsp\;&nbsp\;&nbsp\;&nbsp\;&nbsp\;&nbsp\;&nbsp\;&nbsp\; Introductions/Welcome to Attendees</span></span></strong></span><br />\n<span style="font-size: medium\;">&nbsp\;</span><br />\n<span style="font-size: medium\;"><strong><span style="font-family: calibri\,sans-serif\;"><span style="color: black\;">II.&nbsp\;&nbsp\;&nbsp\;&nbsp\;&nbsp\;&nbsp\;&nbsp\;&nbsp\;&nbsp\;&nbsp\;&nbsp\;&nbsp\;&nbsp\;&nbsp\;&nbsp\;&nbsp\;&nbsp\; City of Lakewood presentation:</span></span></strong></span>\n\n<ol style="list-style-type: lower-alpha\;">\n	<li><span style="font-family: calibri\,sans-serif\;"><span style="color: black\;"><span style="font-size: medium\;">Overview of economic development incentives\, online permitting and Lakewood&rsquo\;s new fee schedule.</span></span></span></li>\n	<li value="2"><span style="font-size: medium\;"><span style="font-family: calibri\,sans-serif\;"><span style="color: black\;">Low Impact Development</span></span></span></li>\n	<li value="3"><span style="font-size: medium\;"><span style="font-family: calibri\,sans-serif\;"><span style="color: black\;">Subdivision Ordinance revisions</span></span></span></li>\n</ol>\n<span style="font-size: medium\;"><strong><span style="font-family: calibri\,sans-serif\;"><span style="color: black\;">III.&nbsp\;&nbsp\;&nbsp\;&nbsp\;&nbsp\;&nbsp\;&nbsp\;&nbsp\;&nbsp\;&nbsp\;&nbsp\;&nbsp\;&nbsp\;&nbsp\;&nbsp\; Roundtable Discussion (jurisdiction updates):</span></span></strong></span><br />\n<br />\n<span style="font-size: medium\;"><span style="font-family: calibri\,sans-serif\;"><span style="color: black\;">a.&nbsp\;&nbsp\;&nbsp\;&nbsp\;&nbsp\;&nbsp\; Building Permit Activity </span></span></span><br />\n<span style="font-size: medium\;"><span style="font-family: calibri\,sans-serif\;"><span style="color: black\;">b.&nbsp\;&nbsp\;&nbsp\;&nbsp\;&nbsp\;&nbsp\; Review Backlog</span></span></span><br />\n<span style="font-size: medium\;"><span style="font-family: calibri\,sans-serif\;"><span style="color: black\;">d.&nbsp\;&nbsp\;&nbsp\;&nbsp\;&nbsp\; Staffing needs/changes </span></span></span><br />\n<span style="font-size: medium\;">&nbsp\;</span><br />\n<span style="font-size: medium\;"><strong><span style="font-family: calibri\,sans-serif\;"><span style="color: black\;">IV.&nbsp\;&nbsp\;&nbsp\;&nbsp\;&nbsp\;&nbsp\;&nbsp\;&nbsp\;&nbsp\;&nbsp\;&nbsp\;&nbsp\;&nbsp\;&nbsp\;&nbsp\; Other Business as appropriate</span></span></strong></span><br />\n<span style="font-size: medium\;">&nbsp\;</span><br />\n<span style="font-size: medium\;"><strong><span style="font-family: calibri\,sans-serif\;"><span style="color: black\;">V.&nbsp\;&nbsp\;&nbsp\;&nbsp\;&nbsp\;&nbsp\;&nbsp\;&nbsp\;&nbsp\;&nbsp\;&nbsp\;&nbsp\;&nbsp\;&nbsp\;&nbsp\;&nbsp\;&nbsp\; Adjournment </span></span></strong></span><br />\n<span style="font-size: medium\;">&nbsp\;</span><br />\n<span style="font-size: medium\;"><span style="font-family: calibri\,sans-serif\;"><span style="color: black\;">The Forum meeting is an opportunity for MBA members and representatives from jurisdictions throughout Pierce County to meet in person and discuss issues that affect residential construction in a friendly atmosphere.</span></span></span><br />\n<span style="font-size: medium\;">&nbsp\;</span><br />\n<span style="font-size: medium\;"><strong><span style="font-family: calibri\,sans-serif\;"><span style="color: black\;">If you&nbsp\;would like to add any issues to this or future agendas\, or if you have questions regarding&nbsp\;these issues\, please contact Jeremiah Lafranca\, MBA Government Affairs Director\, at (253) 254-0085.</span></span></strong></span><br />\n&nbsp\;
LOCATION:Lakewood City Hall 6000 Main Street SW\, Room 1E Lakewood\, WA 98499
UID:e.9280.110
SEQUENCE:3
DTSTAMP:20260423T070018Z
URL:https://members.masterbuilderspierce.com/events/details/mba-development-officials-forum-meeting-03-04-2016-110
END:VEVENT

END:VCALENDAR
