BEGIN:VCALENDAR
VERSION:2.0
PRODID:-//ChamberMaster//Event Calendar 2.0//EN
METHOD:PUBLISH
X-PUBLISHED-TTL:P3D
REFRESH-INTERVAL:P3D
CALSCALE:GREGORIAN
BEGIN:VEVENT
DTSTART:20160902T140000Z
DTEND:20160902T150000Z
X-MICROSOFT-CDO-ALLDAYEVENT:FALSE
SUMMARY:MBA Development Officials' Forum
DESCRIPTION:
X-ALT-DESC;FMTTYPE=text/html:&nbsp\;&nbsp\;&nbsp\;&nbsp\;&nbsp\;&nbsp\;&nbsp\;
LOCATION:Pierce County Annex 2401 S 35th St\, Tacoma\, WA 98409 Conference Room D
UID:e.9280.1376
SEQUENCE:3
DTSTAMP:20260422T215431Z
URL:https://members.masterbuilderspierce.com/events/details/mba-development-officials-forum-09-02-2016-1376
END:VEVENT

END:VCALENDAR
