BEGIN:VCALENDAR
VERSION:2.0
PRODID:-//ChamberMaster//Event Calendar 2.0//EN
METHOD:PUBLISH
X-PUBLISHED-TTL:P3D
REFRESH-INTERVAL:P3D
CALSCALE:GREGORIAN
BEGIN:VEVENT
DTSTART:20160617T140000Z
DTEND:20160617T150000Z
X-MICROSOFT-CDO-ALLDAYEVENT:FALSE
SUMMARY:MBA Development Officials' Forum
DESCRIPTION:MBA-Development Officials'\n\nFORUM MEETING\nFriday\, June 17th @ 7:00 a.m.\n\nPuyallup Library\, South Conference Room\n\n324 South Meridian\, Puyallup\, WA 98371\n\n \n\nAgenda\n\n \n\nI.                    Introductions/Welcome to Attendees\n\n \n\nII.                  City of Puyallup presentation:\n\n \n\n\n	Puyallup permit and projects\n\n	 \n	Electronic permits\n\n	 \n	Impact fee deferral ordinance\n\n	 \n\n III.                Roundtable Discussion (jurisdiction updates):\n\n \n\n\n	Universal Plan Review\n\n	 \n	Building Permit Activity\n\n	 \n	Review Backlog\n\n	 \n	Staffing needs/changes \n\n\nIV.                Other Business as appropriate\n V.                  Adjournment \n\n \n\nThe Forum meeting is an opportunity for MBA members and representatives from jurisdictions throughout Pierce County to meet in person and discuss issues that affect residential construction in a friendly atmosphere.\n\n \n\nIf you would like to add any issues to this or future agendas\, or if you have questions regarding these issues\, please contact Jeremiah Lafranca\, MBA Government Affairs Director\, at (253) 254-0085.
X-ALT-DESC;FMTTYPE=text/html:<h1 align="center" style="text-align: center\;"><span style="font-size: 14px\;"><span style="font-family: arial\;"><span style="color: black\;"><strong>MBA-Development Officials&rsquo\;</strong></span></span></span></h1>\n\n<h1 align="center" style="text-align: center\;"><span style="font-size: 14px\;"><span style="font-family: arial\;"><span style="color: black\;"><strong>FORUM MEETING</strong></span></span></span></h1>\n<span style="font-size: 12px\;"><span style="font-family: arial\;"><strong>Friday\, June 17<sup>th</sup> @ 7:00 a.m.</strong><br />\n<strong>Puyallup Library\, South Conference Room</strong><br />\n<strong>324 South Meridian\, Puyallup\, WA 98371</strong><br />\n&nbsp\;<br />\n<strong><em><span style="color: black\;">Agenda</span></em></strong><br />\n&nbsp\;<br />\n<strong><span style="color: black\;">I.&nbsp\;&nbsp\;&nbsp\;&nbsp\;&nbsp\;&nbsp\;&nbsp\;&nbsp\;&nbsp\;&nbsp\;&nbsp\;&nbsp\;&nbsp\;&nbsp\;&nbsp\;&nbsp\;&nbsp\;&nbsp\;&nbsp\; Introductions/Welcome to Attendees</span></strong><br />\n&nbsp\;<br />\n<strong><span style="color: black\;">II.&nbsp\;&nbsp\;&nbsp\;&nbsp\;&nbsp\;&nbsp\;&nbsp\;&nbsp\;&nbsp\;&nbsp\;&nbsp\;&nbsp\;&nbsp\;&nbsp\;&nbsp\;&nbsp\;&nbsp\; City of Puyallup presentation:</span></strong><br />\n&nbsp\;</span></span>\n\n<ol>\n	<li style="font-style: normal\; font-weight: normal\;"><span style="font-size: 12px\;"><span style="font-family: arial\;"><span style="color: black\;">Puyallup permit and projects</span><br />\n	&nbsp\;</span></span></li>\n	<li style="color: rgb(0\, 0\, 0)\; font-family: Calibri\,sans-serif\; font-size: 12pt\; font-style: normal\; font-weight: normal\;"><span style="font-size: 12px\;"><span style="font-family: arial\;"><span style="color: black\;">Electronic permits</span><br />\n	&nbsp\;</span></span></li>\n	<li style="color: rgb(0\, 0\, 0)\; font-family: Calibri\,sans-serif\; font-size: 12pt\; font-style: normal\; font-weight: normal\;"><span style="font-size: 12px\;"><span style="font-family: arial\;">Impact fee deferral ordinance<br />\n	&nbsp\;</span></span></li>\n</ol>\n<span style="font-size: 12px\;"><span style="font-family: arial\;"> <strong><span style="color: black\;">III.&nbsp\;&nbsp\;&nbsp\;&nbsp\;&nbsp\;&nbsp\;&nbsp\;&nbsp\;&nbsp\;&nbsp\;&nbsp\;&nbsp\;&nbsp\;&nbsp\;&nbsp\; Roundtable Discussion (jurisdiction updates):</span></strong><br />\n&nbsp\;</span></span>\n\n<ol>\n	<li style="font-style: normal\; font-weight: normal\;"><span style="font-size: 12px\;"><span style="font-family: arial\;"><span style="color: black\;">Universal Plan Review</span><br />\n	&nbsp\;</span></span></li>\n	<li style="color: black\; font-family: Calibri\,sans-serif\; font-size: 12pt\; font-style: normal\; font-weight: normal\;"><span style="font-size: 12px\;"><span style="font-family: arial\;"><span style="color: black\;">Building Permit Activity</span><br />\n	&nbsp\;</span></span></li>\n	<li style="color: black\; font-family: Calibri\,sans-serif\; font-size: 12pt\; font-style: normal\; font-weight: normal\;"><span style="font-size: 12px\;"><span style="font-family: arial\;"><span style="color: black\;">Review Backlog</span><br />\n	&nbsp\;</span></span></li>\n	<li style="color: black\; font-family: Calibri\,sans-serif\; font-size: 12pt\; font-style: normal\; font-weight: normal\;"><span style="font-size: 12px\;"><span style="font-family: arial\;"><span style="color: black\;">Staffing needs/changes&nbsp\;</span></span></span></li>\n</ol>\n\n<p style="color: black\; font-family: Calibri\,sans-serif\; font-size: 12pt\; font-style: normal\; font-weight: normal\;"><span style="font-size: 12px\;"><span style="font-family: arial\;"><strong><span style="color: black\;">IV.&nbsp\;&nbsp\;&nbsp\;&nbsp\;&nbsp\;&nbsp\;&nbsp\;&nbsp\;&nbsp\;&nbsp\;&nbsp\;&nbsp\;&nbsp\;&nbsp\;&nbsp\; Other Business as appropriate</span></strong></span></span></p>\n<span style="font-size: 12px\;"><span style="font-family: arial\;"> <strong><span style="color: black\;">V.&nbsp\;&nbsp\;&nbsp\;&nbsp\;&nbsp\;&nbsp\;&nbsp\;&nbsp\;&nbsp\;&nbsp\;&nbsp\;&nbsp\;&nbsp\;&nbsp\;&nbsp\;&nbsp\;&nbsp\; Adjournment </span></strong><br />\n&nbsp\;<br />\n<span style="color: black\;">The Forum meeting is an opportunity for MBA members and representatives from jurisdictions throughout Pierce County to meet in person and discuss issues that affect residential construction in a friendly atmosphere.</span><br />\n&nbsp\;<br />\n<strong><span style="color: black\;">If you&nbsp\;would like to add any issues to this or future agendas\, or if you have questions regarding&nbsp\;these issues\, please contact Jeremiah Lafranca\, MBA Government Affairs Director\, at (253) 254-0085.</span></strong></span></span><br />\n<br />\n&nbsp\;
LOCATION:Puyallup Library 324 S. Meridian\, South Conference Room Puyallup\, WA 98371 Please enter through the main south doors adjacent to the parking lot. A map to the location can be found here: http://www.cityofpuyallup.org/library/page.php?id=69
UID:e.9280.1366
SEQUENCE:3
DTSTAMP:20260423T022944Z
URL:https://members.masterbuilderspierce.com/events/details/mba-development-officials-forum-06-17-2016-1366
END:VEVENT

END:VCALENDAR
