BEGIN:VCALENDAR
VERSION:2.0
PRODID:-//ChamberMaster//Event Calendar 2.0//EN
METHOD:PUBLISH
X-PUBLISHED-TTL:P3D
REFRESH-INTERVAL:P3D
CALSCALE:GREGORIAN
BEGIN:VEVENT
DTSTART:20170912T230000Z
DTEND:20170913T001500Z
X-MICROSOFT-CDO-ALLDAYEVENT:FALSE
SUMMARY:MBA Board of Directors Meeting
DESCRIPTION:
X-ALT-DESC;FMTTYPE=text/html:
LOCATION:Tacoma Art Museum 1701 Pacific Avenue Tacoma\, WA 98402
UID:e.9280.2027
SEQUENCE:3
DTSTAMP:20260422T035915Z
URL:https://members.masterbuilderspierce.com/events/details/mba-board-of-directors-meeting-2027
END:VEVENT

END:VCALENDAR
