BEGIN:VCALENDAR
VERSION:2.0
PRODID:-//ChamberMaster//Event Calendar 2.0//EN
METHOD:PUBLISH
X-PUBLISHED-TTL:P3D
REFRESH-INTERVAL:P3D
CALSCALE:GREGORIAN
BEGIN:VEVENT
DTSTART:20170510T003000Z
DTEND:20170510T023000Z
X-MICROSOFT-CDO-ALLDAYEVENT:FALSE
SUMMARY:MBA Board of Directors
DESCRIPTION:
X-ALT-DESC;FMTTYPE=text/html:
LOCATION:MBA Office 3711 Center Street Tacoma\, WA 98409
UID:e.9280.1998
SEQUENCE:3
DTSTAMP:20260422T100119Z
URL:https://members.masterbuilderspierce.com/events/details/mba-board-of-directors-1998
END:VEVENT

END:VCALENDAR
