BEGIN:VCALENDAR
VERSION:2.0
PRODID:-//ChamberMaster//Event Calendar 2.0//EN
METHOD:PUBLISH
X-PUBLISHED-TTL:P3D
REFRESH-INTERVAL:P3D
CALSCALE:GREGORIAN
BEGIN:VEVENT
DTSTART:20190925T160000Z
DTEND:20190925T210000Z
X-MICROSOFT-CDO-ALLDAYEVENT:FALSE
SUMMARY:Marketing Strategies for Today's Contractor - 200 - Cancelled
DESCRIPTION:This class has been canceled. \n\n\n\nAre you feeling like you are in a marketing/advertising rut since you opened your doors 5\, 10\, or 20+ years ago? If you have a marketing plan that you look at once a year but you have no idea if it is working\, you need this workshop. Do you have a website but you're not sure if it's driving business in the door? Do you use social media or want to give it a try? This workshop will allow attendees to learn while sharing their experiences (good and bad) with others.\n\n\n\nJoin this session to:\n\n	Revisit\, Revise\, and Revamp your website\n	Take your Social Media presence to the next level\n	Focus on your Target Market and the message you want to send\n	Find out about new tricks for your business\n	Learn from the experience of others as well as the advantages and disadvantages of the various forms of marketing and advertising.\n\n\n\nInstructor: Karen Hall\, BIAW Projects and Facilities Manager
X-ALT-DESC;FMTTYPE=text/html:<em>This class has been canceled. </em><br />\n<br />\nAre you feeling like you are in a marketing/advertising rut since you opened your doors 5\, 10\, or 20+ years ago? If you have a marketing plan that you look at once a year but you have no idea if it is working\, you need this workshop. Do you have a website but you&#39\;re not sure if it&#39\;s driving business in the door? Do you use social media or want to give it a try? This workshop will allow attendees to learn while sharing their experiences (good and bad) with others.<br />\n<br />\nJoin this session to:\n<ul>\n	<li>Revisit\, Revise\, and Revamp your website</li>\n	<li>Take your Social Media presence to the next level</li>\n	<li>Focus on your Target Market and the message you want to send</li>\n	<li>Find out about new tricks for your business</li>\n	<li>Learn from the experience of others as well as the advantages and disadvantages of the various forms of marketing and advertising.</li>\n</ul>\n<br />\n<em>Instructor: Karen Hall\, BIAW Projects and Facilities Manager</em>
LOCATION:MBA Pierce County 3711 Center St. Tacoma\, WA 98409
UID:e.9280.3814
SEQUENCE:3
DTSTAMP:20260421T101558Z
URL:https://members.masterbuilderspierce.com/events/details/marketing-strategies-for-today-s-contractor-200-cancelled-3814
END:VEVENT

END:VCALENDAR
