BEGIN:VCALENDAR
VERSION:2.0
PRODID:-//ChamberMaster//Event Calendar 2.0//EN
METHOD:PUBLISH
X-PUBLISHED-TTL:P3D
REFRESH-INTERVAL:P3D
CALSCALE:GREGORIAN
BEGIN:VEVENT
DTSTART:20171020T160000Z
DTEND:20171020T190000Z
X-MICROSOFT-CDO-ALLDAYEVENT:FALSE
SUMMARY:Marketing Strategies for TODAY's Contractor!
DESCRIPTION:Marketing Strategies for TODAY's Contractor!\n\nIf you don't have a marketing plan\, you need this workshop. If you have a marketing plan but you haven't looked at it since 2009\, you really need this workshop. If you have a marketing plan that you look at once a year but you have no idea if it is working\, you definitely need this workshop. Join us to: * Understand the differences between "marketing" and 'advertising' * Discuss the various strategies to effectively market your business * Learn how to deveolop a business marketing plan and use it successfully * Share your experiences and hear from your peers on the advantages and disadvantages of the various forms of advertising.\n\n\n\nInstructor: Jan Rohila
X-ALT-DESC;FMTTYPE=text/html:<h4 id="Content1_lblClassTitle" style="margin-top: 0.5em\; margin-bottom: 0.5em\; font-size: large\; color: rgb(71\, 73\, 75)\; font-family: Arial\; background-color: rgb(255\, 255\, 255)\;">Marketing Strategies for TODAY&#39\;s Contractor!</h4>\n\n<div id="Content1_lblClassDescription" style="color: rgb(71\, 73\, 75)\; font-family: Arial\; font-size: 12.1px\; background-color: rgb(255\, 255\, 255)\;">If you don&#39\;t have a marketing plan\, you need this workshop. If you have a marketing plan but you haven&#39\;t looked at it since 2009\, you really need this workshop. If you have a marketing plan that you look at once a year but you have no idea if it is working\, you definitely need this workshop. Join us to: * Understand the differences between &quot\;marketing&quot\; and &#39\;advertising&#39\; * Discuss the various strategies to effectively market your business * Learn how to deveolop a business marketing plan and use it successfully * Share your experiences and hear from your peers on the advantages and disadvantages of the various forms of advertising.<br />\n<br />\nInstructor: Jan Rohila</div>\n
LOCATION:MBA of Pierce County 3711 Center St Tacoma\, WA 98409
UID:e.9280.1812
SEQUENCE:3
DTSTAMP:20260422T022224Z
URL:https://members.masterbuilderspierce.com/events/details/marketing-strategies-for-today-s-contractor-1812
END:VEVENT

END:VCALENDAR
