BEGIN:VCALENDAR
VERSION:2.0
PRODID:-//ChamberMaster//Event Calendar 2.0//EN
METHOD:PUBLISH
X-PUBLISHED-TTL:P3D
REFRESH-INTERVAL:P3D
CALSCALE:GREGORIAN
BEGIN:VEVENT
DTSTART:20180410T223000Z
DTEND:20180411T000000Z
X-MICROSOFT-CDO-ALLDAYEVENT:FALSE
SUMMARY:Legislative Strategy Committee
DESCRIPTION:Legislative Strategy Committee
X-ALT-DESC;FMTTYPE=text/html:Legislative Strategy Committee&nbsp\;&nbsp\;&nbsp\;&nbsp\;&nbsp\;&nbsp\;&nbsp\;
LOCATION:3711 Center Street Tacoma\, WA 98409
UID:e.9280.3392
SEQUENCE:3
DTSTAMP:20260421T170812Z
URL:https://members.masterbuilderspierce.com/events/details/legislative-strategy-committee-3392
END:VEVENT

END:VCALENDAR
