BEGIN:VCALENDAR
VERSION:2.0
PRODID:-//ChamberMaster//Event Calendar 2.0//EN
METHOD:PUBLISH
X-PUBLISHED-TTL:P3D
REFRESH-INTERVAL:P3D
CALSCALE:GREGORIAN
BEGIN:VEVENT
DTSTART:20170911T223000Z
DTEND:20170912T000000Z
X-MICROSOFT-CDO-ALLDAYEVENT:FALSE
SUMMARY:Legislative Strategy Committee
DESCRIPTION:Monthly Legislative Strategy Committee meeting
X-ALT-DESC;FMTTYPE=text/html:Monthly Legislative Strategy Committee meeting&nbsp\;&nbsp\;&nbsp\;
LOCATION:MBA Office 3711 Center Street Tacoma\, WA 98409
UID:e.9280.2032
SEQUENCE:3
DTSTAMP:20260422T035607Z
URL:https://members.masterbuilderspierce.com/events/details/legislative-strategy-committee-2032
END:VEVENT

END:VCALENDAR
