BEGIN:VCALENDAR
VERSION:2.0
PRODID:-//ChamberMaster//Event Calendar 2.0//EN
METHOD:PUBLISH
X-PUBLISHED-TTL:P3D
REFRESH-INTERVAL:P3D
CALSCALE:GREGORIAN
BEGIN:VEVENT
DTSTART:20161213T233000Z
DTEND:20161214T010000Z
X-MICROSOFT-CDO-ALLDAYEVENT:FALSE
SUMMARY:Legislative Strategy Committee
DESCRIPTION:Join your fellow MBA Pierce members for the December 13\, 2016 LSC meeting beginning at 3:30 pm at the MBA Pierce office (1120 Pacific Ave.\, Suite 301\, Tacoma).  Agenda items will include\, among other items:\n\nPierce County: Park impact fees & regulations\, school impact fee schedule\, MBA Pierce County policy/code proposals\n\nEdgewood: school impact fee discussion\n\nOrting: General facilities charges\n\nPuyallup: Low impact development\n\nTacoma: Tacoma code/policy/administrative changes-MBA proposal\n\nUniversity Place: Public Works code amendments\n\nOther: Growth Management Coordinating Committee\, election results\, Tacoma Pierce County Chamber of Commerce veteran affairs\, 2017 initiatives\, Interns for 2017\, MBA Development Officials' Forum meeting\, Coalition meeting\n\n \n\nFor more information about these or any other regulatory/legislative issues\, please contact Jeremiah Lafranca
X-ALT-DESC;FMTTYPE=text/html:<p style="margin-bottom: 15.6pt\; vertical-align: baseline\;"><span style="color: black\; font-family: &quot\;Arial&quot\;\,sans-serif\;"><font size="3">Join your fellow MBA Pierce </font></span><span style="font-family: &quot\;Arial&quot\;\,sans-serif\;"><font size="3"><font color="#000000">members for the <b><u>December 13\, 2016 </u></b></font></font><font color="#000000" size="3">LSC meeting beginning at </font><b><u><font color="#000000" size="3">3:30 pm</font></u></b><font color="#000000" size="3"> </font><span style="color: black\;"><font size="3">at the MBA Pierce office (1120 Pacific Ave.\, Suite 301\, Tacoma).&nbsp\; Agenda items will include\, among other </font></span><font color="#000000" size="3">items:</font></span></p>\n\n<p style="margin: 0in 0in 0pt\; vertical-align: baseline\;"><strong><span style="font-family: &quot\;Arial&quot\;\,sans-serif\;"><font color="#000000" size="3">Pierce County: </font></span></strong><strong><span style="font-family: &quot\;Arial&quot\;\,sans-serif\; font-weight: normal\;"><font size="3"><font color="#000000">Park impact fees &amp\; regulations</font><span style="color: rgb(31\, 73\, 125)\;">\, </span></font><font color="#000000" size="3">school impact fee schedule\, MBA Pierce County policy/code proposals</font></span></strong></p>\n\n<p style="margin: 0in 0in 0pt\; vertical-align: baseline\;"><font size="3"><font color="#000000"><strong><span style="font-family: &quot\;Arial&quot\;\,sans-serif\;">Edgewood:</span></strong><strong><span style="font-family: &quot\;Arial&quot\;\,sans-serif\; font-weight: normal\;"> school impact fee discussion</span></strong></font></font></p>\n\n<p style="margin: 0in 0in 0pt\; vertical-align: baseline\;"><font size="3"><font color="#000000"><strong><span style="font-family: &quot\;Arial&quot\;\,sans-serif\;">Orting: </span></strong><strong><span style="font-family: &quot\;Arial&quot\;\,sans-serif\; font-weight: normal\;">General facilities charges</span></strong></font></font></p>\n\n<p style="margin: 0in 0in 0pt\; vertical-align: baseline\;"><font size="3"><font color="#000000"><strong><span style="font-family: &quot\;Arial&quot\;\,sans-serif\;">Puyallup: </span></strong><strong><span style="font-family: &quot\;Arial&quot\;\,sans-serif\; font-weight: normal\;">Low impact development</span></strong></font></font></p>\n\n<p style="margin: 0in 0in 0pt\; vertical-align: baseline\;"><font size="3"><font color="#000000"><strong><span style="font-family: &quot\;Arial&quot\;\,sans-serif\;">Tacoma</span></strong><span style="font-family: &quot\;Arial&quot\;\,sans-serif\;">: Tacoma code/policy/administrative changes-MBA proposal</span></font></font></p>\n\n<p style="margin: 0in 0in 0pt\; vertical-align: baseline\;"><font size="3"><font color="#000000"><strong><span style="font-family: &quot\;Arial&quot\;\,sans-serif\;">University Place: </span></strong><strong><span style="font-family: &quot\;Arial&quot\;\,sans-serif\; font-weight: normal\;">Public Works code amendments</span></strong></font></font></p>\n\n<p style="margin: 0in 0in 0pt\; vertical-align: baseline\;"><font size="3"><font color="#000000"><strong><span style="font-family: &quot\;Arial&quot\;\,sans-serif\;">Other: </span></strong><strong><span style="font-family: &quot\;Arial&quot\;\,sans-serif\; font-weight: normal\;">Growth Management Coordinating Committee\, election results\, Tacoma Pierce County Chamber of Commerce veteran affairs\, 2017 initiatives\, Interns for 2017\, MBA Development Officials&rsquo\; Forum meeting\, Coalition meeting</span></strong></font></font></p>\n\n<p style="margin: 0in 0in 0pt\; vertical-align: baseline\;"><strong><span style="color: rgb(31\, 73\, 125)\; font-family: &quot\;Calibri&quot\;\,sans-serif\; font-size: 11pt\; font-weight: normal\;">&nbsp\;</span></strong></p>\n\n<p style="margin: 0in 0in 0pt\;"><span style="color: rgb(58\, 53\, 42)\; font-family: &quot\;Arial&quot\;\,sans-serif\; font-size: 12pt\;">For more information about these or any other regulatory/legislative issues\, please contact </span><span style="font-family: &quot\;Arial&quot\;\,sans-serif\; font-size: 12pt\;"><a href="mailto:jlafranca@mbapierce.com" target="_blank"><span style="color: rgb(89\, 123\, 183)\;">Jeremiah Lafranca</span></a></span></p>\n
LOCATION:MBA Office: 1120 Pacific Ave.\, Suite 301\, Tacoma\, WA.
UID:e.9280.1514
SEQUENCE:3
DTSTAMP:20260422T171340Z
URL:https://members.masterbuilderspierce.com/events/details/legislative-strategy-committee-1514
END:VEVENT

END:VCALENDAR
