BEGIN:VCALENDAR
VERSION:2.0
PRODID:-//ChamberMaster//Event Calendar 2.0//EN
METHOD:PUBLISH
X-PUBLISHED-TTL:P3D
REFRESH-INTERVAL:P3D
CALSCALE:GREGORIAN
BEGIN:VEVENT
DTSTART:20160913T220000Z
DTEND:20160914T000000Z
X-MICROSOFT-CDO-ALLDAYEVENT:FALSE
SUMMARY:Legislative Strategy Committee
DESCRIPTION:
X-ALT-DESC;FMTTYPE=text/html:
LOCATION:MBA Office 1120 Pacific Avenue\, Suite 301 Tacoma\, WA 98402
UID:e.9280.1380
SEQUENCE:3
DTSTAMP:20260422T215049Z
URL:https://members.masterbuilderspierce.com/events/details/legislative-strategy-committee-1380
END:VEVENT

END:VCALENDAR
