BEGIN:VCALENDAR
VERSION:2.0
PRODID:-//ChamberMaster//Event Calendar 2.0//EN
METHOD:PUBLISH
X-PUBLISHED-TTL:P3D
REFRESH-INTERVAL:P3D
CALSCALE:GREGORIAN
BEGIN:VEVENT
DTSTART:20160809T220000Z
DTEND:20160810T000000Z
X-MICROSOFT-CDO-ALLDAYEVENT:FALSE
SUMMARY:Legislative Strategy Committee
DESCRIPTION:Legislative Strategy Committee
X-ALT-DESC;FMTTYPE=text/html:<div style="color: gray\;">Legislative Strategy Committee</div>\n
LOCATION:MBA Office--1120 Pacific Avenue\, Suite 301\, Tacoma\, WA\, 98402
UID:e.9280.1373
SEQUENCE:3
DTSTAMP:20260422T231757Z
URL:https://members.masterbuilderspierce.com/events/details/legislative-strategy-committee-08-09-2016-1373
END:VEVENT

END:VCALENDAR
