BEGIN:VCALENDAR
VERSION:2.0
PRODID:-//ChamberMaster//Event Calendar 2.0//EN
METHOD:PUBLISH
X-PUBLISHED-TTL:P3D
REFRESH-INTERVAL:P3D
CALSCALE:GREGORIAN
BEGIN:VEVENT
DTSTART:20191016T193000Z
DTEND:20191016T210000Z
X-MICROSOFT-CDO-ALLDAYEVENT:FALSE
SUMMARY:Joint Finance/Executive Committee Meeting
DESCRIPTION:Joint Finance/Executive Committee Meeting
X-ALT-DESC;FMTTYPE=text/html:Joint Finance/Executive Committee Meeting
LOCATION:MBA Office 3711 Center Street Tacoma\, WA 98409
UID:e.9280.3989
SEQUENCE:3
DTSTAMP:20260421T084622Z
URL:https://members.masterbuilderspierce.com/events/details/joint-finance-executive-committee-meeting-3989
END:VEVENT

END:VCALENDAR
