BEGIN:VCALENDAR
VERSION:2.0
PRODID:-//ChamberMaster//Event Calendar 2.0//EN
METHOD:PUBLISH
X-PUBLISHED-TTL:P3D
REFRESH-INTERVAL:P3D
CALSCALE:GREGORIAN
BEGIN:VEVENT
DTSTART:20160616T200000Z
DTEND:20160617T000000Z
X-MICROSOFT-CDO-ALLDAYEVENT:FALSE
SUMMARY:IR Code Change Class (BIAW) (6/16/2016)
DESCRIPTION:Significant changes to the 2015 Codes! *Changes take effect July 1\, 2016*\n\n\n\nLearn the significant changes from the last edition to the current edition (2015) of the International Residential Code\, including Washington amendments\, as well as the Plumbing\, Fire and Mechanical Codes. This class will also include the recently adopted changes to the Washington Energy Code. In addition\, attendees will hear directly from local code officials and be able to ask questions on the important issues of interpretation and enforcement.\n\n\n\nThese changes take effect July 1st\, so don't miss your chance to take advantage of this great class at a remarkable price. This class will not take up your valuable time\, only teaching what you need to know in 4 short hours.
X-ALT-DESC;FMTTYPE=text/html:Significant changes to the 2015 Codes! <strong>*Changes take effect July 1\, 2016*</strong><br />\n<br />\nLearn the significant changes from the last edition to the current edition (2015) of the International Residential Code\, including Washington amendments\, as well as the Plumbing\, Fire and Mechanical Codes. This class will also include the recently adopted changes to the Washington Energy Code. In addition\, attendees will hear directly from local code officials and be able to ask questions on the important issues of interpretation and enforcement.<br />\n<br />\nThese changes take effect July 1st\, so don&#39\;t miss your chance to take advantage of this great class at a remarkable price.&nbsp\;<span style="color: rgb(51\, 51\, 51)\; font-family: sans-serif\, Arial\, Verdana\, 'Trebuchet MS'\; font-size: 13px\; line-height: 20.8px\; background-color: rgb(255\, 255\, 255)\;">This class will not take up your valuable time\, only teaching what you need to know in 4 short hours.</span>
LOCATION:MBA Pierce Offices 1120 Pacific Ave\, Ste 301 Tacoma\, WA 98402
UID:e.9280.1358
SEQUENCE:3
DTSTAMP:20260423T023057Z
URL:https://members.masterbuilderspierce.com/events/details/ir-code-change-class-biaw-6-16-2016-06-16-2016-1358
END:VEVENT

END:VCALENDAR
