BEGIN:VCALENDAR
VERSION:2.0
PRODID:-//ChamberMaster//Event Calendar 2.0//EN
METHOD:PUBLISH
X-PUBLISHED-TTL:P3D
REFRESH-INTERVAL:P3D
CALSCALE:GREGORIAN
BEGIN:VEVENT
DTSTART:20180208T180000Z
DTEND:20180208T200000Z
X-MICROSOFT-CDO-ALLDAYEVENT:FALSE
SUMMARY:I-1433 Paid Sick Leave & Minimum Wage
DESCRIPTION:I-1433 Paid Sick Leave & Minimum Wage\n\nSeminars limited to January & February 2018 only. \n\n\n\nFINES UP-TO $40k per violation. \n\n\n\nAre you in compliance? \n\nDo you have questions about I-1433? \n\nDon't know your options?\n\n\n\nStart the new year off right and take advantage of this exclusive opportunity to better understand of I-1433.\n\n\n\nI-1433 not only increases the minimum wage but also requires Washington employers to provide paid sick leave to most employees beginning January 1\, 2018. \n\n\n\nInstructor\, Juli Bacon will nail down the facts you need to know\, in this interactive seminar. Bring questions and your current leave policy and follow along with Juli as she dissects various possibilities you have available in order to be compliant with the new law. Get answers to you your questions and leave confident with a better grasp on the I-1443.. \n\nREGISTER TODAY class dates and sizes are limited...\n\n\n\nInstructor\, Juli Bacon\, President | JB Consulting Systems LLC
X-ALT-DESC;FMTTYPE=text/html:<h4 id="Content1_lblClassTitle" style="margin-top: 0.5em\; margin-bottom: 0.5em\; font-size: large\; color: rgb(71\, 73\, 75)\; font-family: Arial\;">I-1433 Paid Sick Leave &amp\; Minimum Wage</h4>\n\n<div id="Content1_lblClassDescription" style="color: rgb(71\, 73\, 75)\; font-family: Arial\; font-size: 12.1px\;">Seminars limited to January &amp\; February 2018 only.&nbsp\;<br />\n<br />\nFINES UP-TO $40k per violation.&nbsp\;<br />\n<br />\nAre you in compliance?&nbsp\;<br />\nDo you have questions about I-1433?&nbsp\;<br />\nDon&#39\;t know your options?<br />\n<br />\nStart the new year off right and take advantage of this exclusive opportunity to better understand of I-1433.<br />\n<br />\nI-1433 not only increases the minimum wage but also requires Washington employers to provide paid sick leave to most employees beginning January 1\, 2018.&nbsp\;<br />\n<br />\nInstructor\, Juli Bacon will nail down the facts you need to know\, in this interactive seminar. Bring questions and your current leave policy and follow along with Juli as she dissects various possibilities you have available in order to be compliant with the new law. Get answers to you your questions and leave confident with a better grasp on the I-1443..&nbsp\;<br />\nREGISTER TODAY class dates and sizes are limited...<br />\n<br />\nInstructor\, Juli Bacon\, President | JB Consulting Systems LLC</div>\n
LOCATION:MBA Pierce County 3711 Center St. Tacoma\, WA
UID:e.9280.2348
SEQUENCE:3
DTSTAMP:20260421T195127Z
URL:https://members.masterbuilderspierce.com/events/details/i-1433-paid-sick-leave-minimum-wage-2348
END:VEVENT

END:VCALENDAR
