BEGIN:VCALENDAR
VERSION:2.0
PRODID:-//ChamberMaster//Event Calendar 2.0//EN
METHOD:PUBLISH
X-PUBLISHED-TTL:P3D
REFRESH-INTERVAL:P3D
CALSCALE:GREGORIAN
BEGIN:VEVENT
DTSTART:20150416T190000Z
DTEND:20150417T010000Z
X-MICROSOFT-CDO-ALLDAYEVENT:FALSE
SUMMARY:Housing Forum
DESCRIPTION:RSVP Parr Lumber presents this great event bringing speakers to Pierce County to share the economic update for housing in the area and how we compare. Looking at past\, current and future trends that our members need to be aware of.
X-ALT-DESC;FMTTYPE=text/html:<p>RSVP </p><p>Parr Lumber presents this great event bringing speakers to Pierce County to share the economic update for housing in the area and how we compare. Looking at past\, current and future trends that our members need to be aware of. </p>
LOCATION:47 St Helens Ave Tacoma\, WA 98402
UID:e.9280.11
SEQUENCE:3
DTSTAMP:20260424T004315Z
URL:https://members.masterbuilderspierce.com/events/details/housing-forum-04-16-2015-11
END:VEVENT

END:VCALENDAR
