BEGIN:VCALENDAR
VERSION:2.0
PRODID:-//ChamberMaster//Event Calendar 2.0//EN
METHOD:PUBLISH
X-PUBLISHED-TTL:P3D
REFRESH-INTERVAL:P3D
CALSCALE:GREGORIAN
BEGIN:VEVENT
DTSTART:20180118T013000Z
DTEND:20180118T023000Z
X-MICROSOFT-CDO-ALLDAYEVENT:FALSE
SUMMARY:Home Show Booth Volunteer Orientation
DESCRIPTION:Calling all volunteers manning the MBA Pierce home show booth at the Tacoma Home & Gardent Show! Join the PR Committee for drinks and snacks as we go over how to make the most of your booth exposure and promoting the Master Builders Association of Pierce County.
X-ALT-DESC;FMTTYPE=text/html:Calling all volunteers manning the MBA Pierce home show booth at the Tacoma Home &amp\; Gardent Show! Join the PR Committee for drinks and snacks as we go over how to make the most of your booth exposure and promoting the Master Builders Association of Pierce County.&nbsp\;
LOCATION:MBA Pierce Office 3711 Center St. Tacoma\, WA 98409
UID:e.9280.2341
SEQUENCE:3
DTSTAMP:20260421T212054Z
URL:https://members.masterbuilderspierce.com/events/details/home-show-booth-volunteer-orientation-2341
END:VEVENT

END:VCALENDAR
