BEGIN:VCALENDAR
VERSION:2.0
PRODID:-//ChamberMaster//Event Calendar 2.0//EN
METHOD:PUBLISH
X-PUBLISHED-TTL:P3D
REFRESH-INTERVAL:P3D
CALSCALE:GREGORIAN
BEGIN:VEVENT
DTSTART:20171027T003000Z
DTEND:20171027T023000Z
X-MICROSOFT-CDO-ALLDAYEVENT:FALSE
SUMMARY:HIRST: The Decision Impact
DESCRIPTION:Is YOUR land truly YOUR land?\n\n\nNot after the Hirst Decision which now regulates your use of a private well for your water supply ... on YOUR land.\n\n\n\nLexar Homes of Tacoma is happy to sponsor a free informational presentation outlining the details of the private well challenge to home building caused by the Hirst court decision of October 2016.\n\n\n\nJoin us and hear the facts regarding the status of this important issue.\n\n\n\nSpeaking will be:\n\n\n\nEvent MC - Jan Himebaugh - Government Affairs Director BIAW - Hirst Decision expert.\n\n\n\n - Randi Becker - Washington State Senator 2nd District - services citizens of Yelm\, Lacey\, Eatonville\, Graham\, Orting\, Buckley\, Bonney Lake\, Enumclaw.\n\n\n\n - Morgan Irwin - House Representative 31st Legislative District - serves citizens of Auburn\, Bonney Lake\, Buckley\, Edgewood\, Enumclaw\, Sumner.\n\n\n\n - Derek Young - District 7 Pierce County Council Member - serves citizens of Gig Harbor\, Key Peninsula\, Fox Island\, McNeil Island\, Ruston\, West Tacoma\, North Tacoma.\n\n\n\n - Maggie Morehouse - Pierce County Health Dept. Resource Manager - responsible for approving or disapproving well applications in Pierce County.\n\n\n\n - Seth Mattos - Lead Hydrologist with GeoResources\, LLC - Pierce County lead hydologist.\n\n\n\n                                               Seating is limited
X-ALT-DESC;FMTTYPE=text/html:<h3 align="center" style="margin-bottom:.0001pt\;text-align:center\;line-height:125%\;"><br />\n<strong><span style="color:#3F6C91\;"><span style="font-family:helvetica\,sans-serif\;"><span style="font-size:24.0pt\;">Is <u>YOUR</u> land truly <u>YOUR</u> land?</span></span></span></strong></h3>\n<br />\n<span style="color:#666666\;"><span style="font-family:helvetica\,sans-serif\;"><span style="font-size:12.0pt\;"><strong>Not after the Hirst Decision which now regulates your use of a private well for your water supply ... on YOUR land.</strong><br />\n<br />\nLexar Homes of&nbsp\;Tacoma is happy to sponsor a </span><strong>free</strong> informational presentation outlining the details of the private well challenge to home building caused by the Hirst court decision of October 2016.</span><br />\n<br />\nJoin us and&nbsp\;hear&nbsp\;the </span><strong>facts</strong>&nbsp\;regarding the status of this important issue.<br />\n<br />\n<strong><span style="color:#666666\;"><span style="font-family:helvetica\,sans-serif\;"><span style="font-size:14.0pt\;">Speaking will be:</span></span></span></strong><br />\n<br />\n<span style="color:#666666\;"><span style="font-family:helvetica\,sans-serif\;"><strong>Event MC - Jan Himebaugh</strong> - Government Affairs Director BIAW - Hirst Decision expert.</span><br />\n<br />\n&nbsp\;- </span><strong>Randi Becker</strong> - Washington State Senator 2nd District -&nbsp\;services citizens of&nbsp\;Yelm\, Lacey\, Eatonville\, Graham\, Orting\, Buckley\, Bonney Lake\, Enumclaw.<br />\n<br />\n&nbsp\;- <strong>Morgan Irwin</strong> - House Representative 31st Legislative District - serves citizens of Auburn\, Bonney Lake\, Buckley\, Edgewood\, Enumclaw\, Sumner.<br />\n<br />\n&nbsp\;- <strong>Derek Young</strong> - District 7 Pierce County Council Member - serves citizens of Gig Harbor\, Key Peninsula\, Fox Island\, McNeil Island\, Ruston\, West Tacoma\, North Tacoma.<br />\n<br />\n&nbsp\;- <strong>Maggie Morehouse</strong> - Pierce County Health Dept. Resource Manager - responsible for approving or disapproving well applications in Pierce County.<br />\n<br />\n&nbsp\;- <strong>Seth Mattos</strong> - Lead Hydrologist with GeoResources\, LLC - Pierce County lead hydologist.<br />\n<br />\n&nbsp\; &nbsp\; &nbsp\; &nbsp\; &nbsp\; &nbsp\; &nbsp\; &nbsp\; &nbsp\; &nbsp\; &nbsp\; &nbsp\; &nbsp\; &nbsp\; &nbsp\; &nbsp\; &nbsp\; &nbsp\; &nbsp\; &nbsp\; &nbsp\; &nbsp\; &nbsp\; &nbsp\;<strong>Seating is limited</strong>
LOCATION:GENSCO Building Mount Rainier Training Room 4402 20th St. E. Fife\, WA 98424
UID:e.9280.2053
SEQUENCE:3
DTSTAMP:20260422T021926Z
URL:https://members.masterbuilderspierce.com/events/details/hirst-the-decision-impact-2053
END:VEVENT

END:VCALENDAR
