BEGIN:VCALENDAR
VERSION:2.0
PRODID:-//ChamberMaster//Event Calendar 2.0//EN
METHOD:PUBLISH
X-PUBLISHED-TTL:P3D
REFRESH-INTERVAL:P3D
CALSCALE:GREGORIAN
BEGIN:VEVENT
DTSTART:20180419T150000Z
DTEND:20180419T200000Z
X-MICROSOFT-CDO-ALLDAYEVENT:FALSE
SUMMARY:Hazard Communications (HCS)/Globally Harmonized Systems (GHS)
DESCRIPTION:Obtain documentation that states you met the new WAC training requirements \n\n\n\nChanges to the Occupational Safety and Health Administration's (OSHA) Hazard Communication Standard (HCS) are bringing the United States into alignment with the Globally Harmonized System of Classification and Labeling of Chemicals (GHS)\, further improving safety and health protection for America's workers. Employees who work with hazardous chemicals need to be trained on the new Hazard Communication Standard. Building on the success of OSHA's current Hazard Communication Standard\, the GHS is expected to prevent injuries and illnesses\, save lives\, and improve trade conditions for chemical manufacturers. The Hazard Communication Standard in 1983 gave the workers the 'right to know\,' but the new Globally Harmonized System gives workers the 'right to understand.' \n\n\n\nThe NEW Hazard Communication Standard still requires chemical manufacturers and importers to evaluate the chemicals they produce or import and provide hazard information to employers and workers by putting labels on containers and preparing safety data sheets. However\, the old standard allowed chemical manufacturers and importers to convey hazard information on labels and material safety data sheets in whatever format they chose. The modified standard provides a single set of harmonized criteria for classifying chemicals according to their health and physical hazards and specifies hazard communication elements for labeling and safety data sheets. \n\n\n\nMajor Changes to the Hazard Communication Standard: \n\n\n\n* Hazard classification: Provides specific criteria for classification of health and physical hazards\, as well as classification mixtures. \n\n\n\n* Labels: Chemical manufacturers and importers will be required to provide a label that includes a harmonized signal word\, pictogram\, and hazard statement for each hazard class and category. Precautionary statements must also be provided. \n\n\n\n* Safety Data Sheets: Will now have a specified 16-section format. \n\n\n\n* Information and training: Employers are required to train workers by December 1\, 2013 on the new labels elements and safety data sheets format to facilitate recognition and understanding. \n\n\n\nInstructor\, Kris Alberti\, CAPS\, CGP
X-ALT-DESC;FMTTYPE=text/html:<span style="color: rgb(71\, 73\, 75)\; font-family: Arial\; font-size: 12.1px\;">Obtain documentation that states you met the new WAC training requirements&nbsp\;</span><br style="color: rgb(71\, 73\, 75)\; font-family: Arial\; font-size: 12.1px\;" />\n<br style="color: rgb(71\, 73\, 75)\; font-family: Arial\; font-size: 12.1px\;" />\n<span style="color: rgb(71\, 73\, 75)\; font-family: Arial\; font-size: 12.1px\;">Changes to the Occupational Safety and Health Administration&#39\;s (OSHA) Hazard Communication Standard (HCS) are bringing the United States into alignment with the Globally Harmonized System of Classification and Labeling of Chemicals (GHS)\, further improving safety and health protection for America&#39\;s workers. Employees who work with hazardous chemicals need to be trained on the new Hazard Communication Standard. Building on the success of OSHA&#39\;s current Hazard Communication Standard\, the GHS is expected to prevent injuries and illnesses\, save lives\, and improve trade conditions for chemical manufacturers. The Hazard Communication Standard in 1983 gave the workers the &#39\;right to know\,&#39\; but the new Globally Harmonized System gives workers the &#39\;right to understand.&#39\;&nbsp\;</span><br style="color: rgb(71\, 73\, 75)\; font-family: Arial\; font-size: 12.1px\;" />\n<br style="color: rgb(71\, 73\, 75)\; font-family: Arial\; font-size: 12.1px\;" />\n<span style="color: rgb(71\, 73\, 75)\; font-family: Arial\; font-size: 12.1px\;">The NEW Hazard Communication Standard still requires chemical manufacturers and importers to evaluate the chemicals they produce or import and provide hazard information to employers and workers by putting labels on containers and preparing safety data sheets. However\, the old standard allowed chemical manufacturers and importers to convey hazard information on labels and material safety data sheets in whatever format they chose. The modified standard provides a single set of harmonized criteria for classifying chemicals according to their health and physical hazards and specifies hazard communication elements for labeling and safety data sheets.&nbsp\;</span><br style="color: rgb(71\, 73\, 75)\; font-family: Arial\; font-size: 12.1px\;" />\n<br style="color: rgb(71\, 73\, 75)\; font-family: Arial\; font-size: 12.1px\;" />\n<span style="color: rgb(71\, 73\, 75)\; font-family: Arial\; font-size: 12.1px\;">Major Changes to the Hazard Communication Standard:&nbsp\;</span><br style="color: rgb(71\, 73\, 75)\; font-family: Arial\; font-size: 12.1px\;" />\n<br style="color: rgb(71\, 73\, 75)\; font-family: Arial\; font-size: 12.1px\;" />\n<span style="color: rgb(71\, 73\, 75)\; font-family: Arial\; font-size: 12.1px\;">* Hazard classification: Provides specific criteria for classification of health and physical hazards\, as well as classification mixtures.&nbsp\;</span><br style="color: rgb(71\, 73\, 75)\; font-family: Arial\; font-size: 12.1px\;" />\n<br style="color: rgb(71\, 73\, 75)\; font-family: Arial\; font-size: 12.1px\;" />\n<span style="color: rgb(71\, 73\, 75)\; font-family: Arial\; font-size: 12.1px\;">* Labels: Chemical manufacturers and importers will be required to provide a label that includes a harmonized signal word\, pictogram\, and hazard statement for each hazard class and category. Precautionary statements must also be provided.&nbsp\;</span><br style="color: rgb(71\, 73\, 75)\; font-family: Arial\; font-size: 12.1px\;" />\n<br style="color: rgb(71\, 73\, 75)\; font-family: Arial\; font-size: 12.1px\;" />\n<span style="color: rgb(71\, 73\, 75)\; font-family: Arial\; font-size: 12.1px\;">* Safety Data Sheets: Will now have a specified 16-section format.&nbsp\;</span><br style="color: rgb(71\, 73\, 75)\; font-family: Arial\; font-size: 12.1px\;" />\n<br style="color: rgb(71\, 73\, 75)\; font-family: Arial\; font-size: 12.1px\;" />\n<span style="color: rgb(71\, 73\, 75)\; font-family: Arial\; font-size: 12.1px\;">* Information and training: Employers are required to train workers by December 1\, 2013 on the new labels elements and safety data sheets format to facilitate recognition and understanding.&nbsp\;</span><br style="color: rgb(71\, 73\, 75)\; font-family: Arial\; font-size: 12.1px\;" />\n<br style="color: rgb(71\, 73\, 75)\; font-family: Arial\; font-size: 12.1px\;" />\n<span style="color: rgb(71\, 73\, 75)\; font-family: Arial\; font-size: 12.1px\;">Instructor\, Kris Alberti\, CAPS\, CGP</span>
LOCATION:MBA Pierce County 3711 Center St. Tacoma\, WA 98409
UID:e.9280.2374
SEQUENCE:3
DTSTAMP:20260421T170914Z
URL:https://members.masterbuilderspierce.com/events/details/hazard-communications-hcs-globally-harmonized-systems-ghs-2374
END:VEVENT

END:VCALENDAR
