BEGIN:VCALENDAR
VERSION:2.0
PRODID:-//ChamberMaster//Event Calendar 2.0//EN
METHOD:PUBLISH
X-PUBLISHED-TTL:P3D
REFRESH-INTERVAL:P3D
CALSCALE:GREGORIAN
BEGIN:VEVENT
DTSTART:20190827T200000Z
DTEND:20190827T230000Z
X-MICROSOFT-CDO-ALLDAYEVENT:FALSE
SUMMARY:Hawaiian Membership Drive BBQ
DESCRIPTION:Please join us for a Membership drive! Susie Nelson from Century Insurance Services has graciously opened her home to us to make phone calls to potential new members. We will have other marketing materials to send out if you prefer not to make calls. The event is Hawaiian themed so be sure to have fun with dressing up! There will be BBQ and soda to enjoy. Once you have RSVP'd I will personally send you an email with the address to Susie's house.
X-ALT-DESC;FMTTYPE=text/html:Please join us for a Membership drive! Susie Nelson from Century Insurance Services has graciously opened her home to us to make phone calls to potential new members. We will have other marketing materials to send out if you prefer not to make calls. The event is Hawaiian themed so be sure to have fun with dressing up! There will be BBQ and soda to enjoy. Once you have RSVP'd I will personally send you an email with the address to Susie's house.&nbsp\;
LOCATION:Gig Harbor\, WA
UID:e.9280.3980
SEQUENCE:3
DTSTAMP:20260421T124053Z
URL:https://members.masterbuilderspierce.com/events/details/hawaiian-membership-drive-bbq-3980
END:VEVENT

END:VCALENDAR
