BEGIN:VCALENDAR
VERSION:2.0
PRODID:-//ChamberMaster//Event Calendar 2.0//EN
METHOD:PUBLISH
X-PUBLISHED-TTL:P3D
REFRESH-INTERVAL:P3D
CALSCALE:GREGORIAN
BEGIN:VEVENT
DTSTART:20190411T160000Z
DTEND:20190411T200000Z
X-MICROSOFT-CDO-ALLDAYEVENT:FALSE
SUMMARY:GRIP Claims 201 Class - 4/11/19
DESCRIPTION:You must have completed Claims 101  to attend Claims 201. \n\n\n\nClass size is limited\, so reserve your spot now! Continental breakfast and/or lunch are provided.\n\n\n\nApproach Management Services is the third-party administrator for several top Retro programs in Washington state. We offer monthly Claims 101  classes and Brain Trust lunches in Bellevue/Seattle locations\, quarterly programs in Tacoma and Lacey\, and additional events statewide. We encourage our client employers to take advantage of these no-cost opportunities to further your education and networking.
X-ALT-DESC;FMTTYPE=text/html:<em><strong>You must have completed Claims 101&trade\; to attend Claims 201. </strong></em><br />\n<br />\nClass size is limited\, so reserve your spot now! Continental breakfast and/or lunch are provided.<br />\n<br />\nApproach Management Services is the third-party administrator for several top Retro programs in Washington state. We offer monthly Claims 101&trade\; classes and Brain Trust lunches in Bellevue/Seattle locations\, quarterly programs in Tacoma and Lacey\, and additional events statewide. We encourage our client employers to take advantage of these no-cost opportunities to further your education and networking.
LOCATION:MBA Pierce County 3711 Center St. Tacoma\, WA
UID:e.9280.3945
SEQUENCE:3
DTSTAMP:20260421T095100Z
URL:https://members.masterbuilderspierce.com/events/details/grip-claims-201-class-4-11-19-3945
END:VEVENT

END:VCALENDAR
