BEGIN:VCALENDAR
VERSION:2.0
PRODID:-//ChamberMaster//Event Calendar 2.0//EN
METHOD:PUBLISH
X-PUBLISHED-TTL:P3D
REFRESH-INTERVAL:P3D
CALSCALE:GREGORIAN
BEGIN:VEVENT
DTSTART:20171003T153000Z
DTEND:20171003T200000Z
X-MICROSOFT-CDO-ALLDAYEVENT:FALSE
SUMMARY:GRIP Claims 101 Class
DESCRIPTION:GRIP Claims 101  will inform you of the latest developments at L&I and\, even more importantly\, teach you what you need to do when you have a claim. Your active participation in resolving claim issues will ultimately lower your risk rating and save your company money. Savings on L&I premiums helps make you more competitive in the marketplace when you bid for projects.\n\nEach GRIP participant is required to attend Claims 101  at least once. Repeat attendance is welcome and encouraged. Class size is limited\, so reserve your spot now! Continental breakfast and/or lunch are provided.
X-ALT-DESC;FMTTYPE=text/html:<p style="text-align:justify"><span style="font-size:14px\;">GRIP Claims 101&trade\; will inform you of the latest developments at L&amp\;I and\, even more importantly\, teach you what you need to do when you have a claim. Your active participation in resolving claim issues will ultimately lower your risk rating and save your company money. Savings on L&amp\;I premiums helps make you more competitive in the marketplace when you bid for projects.</span></p>\n\n<p><span style="font-size:14px\;">Each GRIP participant is required to attend Claims 101&trade\; at least once. Repeat attendance is welcome and encouraged.&nbsp\;Class size is limited\, so reserve your spot now!&nbsp\;Continental breakfast and/or lunch are provided.</span></p>\n
LOCATION:MBA Pierce Office 3711 Center St Tacoma\, WA 98409
UID:e.9280.1839
SEQUENCE:3
DTSTAMP:20260422T021711Z
URL:https://members.masterbuilderspierce.com/events/details/grip-claims-101-class-1839
END:VEVENT

END:VCALENDAR
