BEGIN:VCALENDAR
VERSION:2.0
PRODID:-//ChamberMaster//Event Calendar 2.0//EN
METHOD:PUBLISH
X-PUBLISHED-TTL:P3D
REFRESH-INTERVAL:P3D
CALSCALE:GREGORIAN
BEGIN:VEVENT
DTSTART:20180118T193000Z
DTEND:20180118T210000Z
X-MICROSOFT-CDO-ALLDAYEVENT:FALSE
SUMMARY:GRIP - Brain Trust
DESCRIPTION:Join fellow retro participants and Approach in brainstorming solutions and sharing ideas and resources. Lunch and stimulating conversation provided.\n\n2018 topics\n\n\n	January - Approach Services\n	June - TBD\n\n\nPlease note: This program is exclusively for current participants of a Retro program administered by Approach.
X-ALT-DESC;FMTTYPE=text/html:<p style="margin: 0px\; padding: 0px\; line-height: normal\; color: rgb(82\, 86\, 90)\; font-family: &quot\;Benton Sans&quot\;\, -apple-system\, BlinkMacSystemFont\, Roboto\, &quot\;Helvetica Neue&quot\;\, Helvetica\, Tahoma\, Arial\, sans-serif\; font-size: 13.2px\; letter-spacing: 0.5px\;"><span style="font-size: large\;">Join fellow retro participants and Approach in brainstorming solutions and sharing ideas and resources. Lunch and stimulating conversation provided.</span></p>\n\n<p style="margin: 0px\; padding: 0px\; line-height: normal\; color: rgb(82\, 86\, 90)\; font-family: &quot\;Benton Sans&quot\;\, -apple-system\, BlinkMacSystemFont\, Roboto\, &quot\;Helvetica Neue&quot\;\, Helvetica\, Tahoma\, Arial\, sans-serif\; font-size: 13.2px\; letter-spacing: 0.5px\;"><span style="font-size: large\;">2018 topics</span></p>\n\n<ul style="margin: 1em 0px\; padding-right: 0px\; list-style-position: initial\; list-style-image: initial\; color: rgb(82\, 86\, 90)\; font-family: &quot\;Benton Sans&quot\;\, -apple-system\, BlinkMacSystemFont\, Roboto\, &quot\;Helvetica Neue&quot\;\, Helvetica\, Tahoma\, Arial\, sans-serif\; font-size: 13.2px\; letter-spacing: 0.5px\;">\n	<li style="margin: 0px\; padding: 0px\;"><span style="font-size: medium\;">January - Approach Services</span></li>\n	<li style="margin: 0px\; padding: 0px\;"><span style="font-size: medium\;">June - TBD</span></li>\n</ul>\n\n<p style="margin: 0px\; padding: 0px\; line-height: normal\; color: rgb(82\, 86\, 90)\; font-family: &quot\;Benton Sans&quot\;\, -apple-system\, BlinkMacSystemFont\, Roboto\, &quot\;Helvetica Neue&quot\;\, Helvetica\, Tahoma\, Arial\, sans-serif\; font-size: 13.2px\; letter-spacing: 0.5px\;"><span style="font-size: medium\;"><span style="font-weight: 700\;">Please note</span>:&nbsp\;This program is exclusively for current participants of a Retro program administered by Approach.</span></p>\n
LOCATION:MBA Pierce 3711 Center St. Tacoma\, WA 98409
UID:e.9280.2343
SEQUENCE:3
DTSTAMP:20260421T211809Z
URL:https://members.masterbuilderspierce.com/events/details/grip-brain-trust-2343
END:VEVENT

END:VCALENDAR
