BEGIN:VCALENDAR
VERSION:2.0
PRODID:-//ChamberMaster//Event Calendar 2.0//EN
METHOD:PUBLISH
X-PUBLISHED-TTL:P3D
REFRESH-INTERVAL:P3D
CALSCALE:GREGORIAN
BEGIN:VEVENT
DTSTART:20180808T200000Z
DTEND:20180808T210000Z
X-MICROSOFT-CDO-ALLDAYEVENT:FALSE
SUMMARY:Finance Committee Meeting
DESCRIPTION:Finance Committee Meeting
X-ALT-DESC;FMTTYPE=text/html:Finance Committee Meeting
LOCATION:3711 Center Street Tacoma\, WA 98409
UID:e.9280.3552
SEQUENCE:3
DTSTAMP:20260421T111545Z
URL:https://members.masterbuilderspierce.com/events/details/finance-committee-meeting-3552
END:VEVENT

END:VCALENDAR
