BEGIN:VCALENDAR
VERSION:2.0
PRODID:-//ChamberMaster//Event Calendar 2.0//EN
METHOD:PUBLISH
X-PUBLISHED-TTL:P3D
REFRESH-INTERVAL:P3D
CALSCALE:GREGORIAN
BEGIN:VEVENT
DTSTART:20170705T220000Z
DTEND:20170705T230000Z
X-MICROSOFT-CDO-ALLDAYEVENT:FALSE
SUMMARY:Finance Committee Meeting
DESCRIPTION:
X-ALT-DESC;FMTTYPE=text/html:
LOCATION:MBA Office 3711 Center Street Tacoma\, WA 98409
UID:e.9280.2016
SEQUENCE:3
DTSTAMP:20260422T065423Z
URL:https://members.masterbuilderspierce.com/events/details/finance-committee-meeting-2016
END:VEVENT

END:VCALENDAR
