BEGIN:VCALENDAR
VERSION:2.0
PRODID:-//ChamberMaster//Event Calendar 2.0//EN
METHOD:PUBLISH
X-PUBLISHED-TTL:P3D
REFRESH-INTERVAL:P3D
CALSCALE:GREGORIAN
BEGIN:VEVENT
DTSTART:20160328T183000Z
DTEND:20160328T193000Z
X-MICROSOFT-CDO-ALLDAYEVENT:FALSE
SUMMARY:Finance Committee Meeting
DESCRIPTION:
X-ALT-DESC;FMTTYPE=text/html:
LOCATION:1120 Pacific Ave\, Ste 301\, Tacoma\, WA 98402
UID:e.9280.99
SEQUENCE:3
DTSTAMP:20260423T070131Z
URL:https://members.masterbuilderspierce.com/events/details/finance-committee-meeting-03-28-2016-99
END:VEVENT

END:VCALENDAR
