BEGIN:VCALENDAR
VERSION:2.0
PRODID:-//ChamberMaster//Event Calendar 2.0//EN
METHOD:PUBLISH
X-PUBLISHED-TTL:P3D
REFRESH-INTERVAL:P3D
CALSCALE:GREGORIAN
BEGIN:VEVENT
DTSTART:20180307T210000Z
DTEND:20180307T220000Z
X-MICROSOFT-CDO-ALLDAYEVENT:FALSE
SUMMARY:Finance Committee
DESCRIPTION:Finance Committee meeting
X-ALT-DESC;FMTTYPE=text/html:Finance Committee meeting
LOCATION:MBA Office 3711 Center Street Tacoma\, WA 98409
UID:e.9280.2366
SEQUENCE:3
DTSTAMP:20260421T183731Z
URL:https://members.masterbuilderspierce.com/events/details/finance-committee-2366
END:VEVENT

END:VCALENDAR
