BEGIN:VCALENDAR
VERSION:2.0
PRODID:-//ChamberMaster//Event Calendar 2.0//EN
METHOD:PUBLISH
X-PUBLISHED-TTL:P3D
REFRESH-INTERVAL:P3D
CALSCALE:GREGORIAN
BEGIN:VEVENT
DTSTART:20191030T210000Z
DTEND:20191030T220000Z
X-MICROSOFT-CDO-ALLDAYEVENT:FALSE
SUMMARY:Executive Committee Meeting
DESCRIPTION:Executive Commitee
X-ALT-DESC;FMTTYPE=text/html:Executive Commitee&nbsp\;&nbsp\;&nbsp\;
LOCATION:MBA Office 3711 Center Street Tacoma\, WA 98409
UID:e.9280.4010
SEQUENCE:3
DTSTAMP:20260421T084044Z
URL:https://members.masterbuilderspierce.com/events/details/executive-committee-meeting-4010
END:VEVENT

END:VCALENDAR
