BEGIN:VCALENDAR
VERSION:2.0
PRODID:-//ChamberMaster//Event Calendar 2.0//EN
METHOD:PUBLISH
X-PUBLISHED-TTL:P3D
REFRESH-INTERVAL:P3D
CALSCALE:GREGORIAN
BEGIN:VEVENT
DTSTART:20190807T210000Z
DTEND:20190807T220000Z
X-MICROSOFT-CDO-ALLDAYEVENT:FALSE
SUMMARY:Executive Committee Meeting
DESCRIPTION:Executive Committee
X-ALT-DESC;FMTTYPE=text/html:Executive Committee
LOCATION:MBA Office 3711 Center Street Tacoma\, WA 98409
UID:e.9280.3973
SEQUENCE:3
DTSTAMP:20260421T111502Z
URL:https://members.masterbuilderspierce.com/events/details/executive-committee-meeting-3973
END:VEVENT

END:VCALENDAR
