BEGIN:VCALENDAR
VERSION:2.0
PRODID:-//ChamberMaster//Event Calendar 2.0//EN
METHOD:PUBLISH
X-PUBLISHED-TTL:P3D
REFRESH-INTERVAL:P3D
CALSCALE:GREGORIAN
BEGIN:VEVENT
DTSTART:20180808T210000Z
DTEND:20180808T220000Z
X-MICROSOFT-CDO-ALLDAYEVENT:FALSE
SUMMARY:Executive Committee meeting
DESCRIPTION:Executive Committee meeting
X-ALT-DESC;FMTTYPE=text/html:Executive Committee meeting&nbsp\;&nbsp\;&nbsp\;&nbsp\;&nbsp\;&nbsp\;&nbsp\;
LOCATION:3711 Center Street Tacoma\, WA 98409
UID:e.9280.3553
SEQUENCE:3
DTSTAMP:20260421T111417Z
URL:https://members.masterbuilderspierce.com/events/details/executive-committee-meeting-3553
END:VEVENT

END:VCALENDAR
