BEGIN:VCALENDAR
VERSION:2.0
PRODID:-//ChamberMaster//Event Calendar 2.0//EN
METHOD:PUBLISH
X-PUBLISHED-TTL:P3D
REFRESH-INTERVAL:P3D
CALSCALE:GREGORIAN
BEGIN:VEVENT
DTSTART:20320504T210000Z
DTEND:20320504T220000Z
X-MICROSOFT-CDO-ALLDAYEVENT:FALSE
SUMMARY:Executive Committee Meeting
DESCRIPTION:Executive Committee Meeting
X-ALT-DESC;FMTTYPE=text/html:Executive Committee Meeting
LOCATION:Zoom
UID:e.9280.4836
SEQUENCE:3
DTSTAMP:20260422T083012Z
URL:https://members.masterbuilderspierce.com/events/details/executive-committee-meeting-05-04-2032-4836
END:VEVENT

END:VCALENDAR
