BEGIN:VCALENDAR
VERSION:2.0
PRODID:-//ChamberMaster//Event Calendar 2.0//EN
METHOD:PUBLISH
X-PUBLISHED-TTL:P3D
REFRESH-INTERVAL:P3D
CALSCALE:GREGORIAN
BEGIN:VEVENT
DTSTART:20320106T220000Z
DTEND:20320106T230000Z
X-MICROSOFT-CDO-ALLDAYEVENT:FALSE
SUMMARY:Executive Committee Meeting
DESCRIPTION:Executive Committee Meeting
X-ALT-DESC;FMTTYPE=text/html:Executive Committee Meeting
LOCATION:Zoom
UID:e.9280.4832
SEQUENCE:3
DTSTAMP:20260420T213150Z
URL:https://members.masterbuilderspierce.com/events/details/executive-committee-meeting-01-06-2032-4832
END:VEVENT

END:VCALENDAR
