BEGIN:VCALENDAR
VERSION:2.0
PRODID:-//ChamberMaster//Event Calendar 2.0//EN
METHOD:PUBLISH
X-PUBLISHED-TTL:P3D
REFRESH-INTERVAL:P3D
CALSCALE:GREGORIAN
BEGIN:VEVENT
DTSTART:20180307T220000Z
DTEND:20180307T230000Z
X-MICROSOFT-CDO-ALLDAYEVENT:FALSE
SUMMARY:Executive Committee
DESCRIPTION:Executive Committee meeting
X-ALT-DESC;FMTTYPE=text/html:Executive Committee meeting&nbsp\;&nbsp\;&nbsp\;
LOCATION:MBA Office 3711 Center Street Tacoma\, WA 98409
UID:e.9280.2367
SEQUENCE:3
DTSTAMP:20260421T184309Z
URL:https://members.masterbuilderspierce.com/events/details/executive-committee-2367
END:VEVENT

END:VCALENDAR
