BEGIN:VCALENDAR
VERSION:2.0
PRODID:-//ChamberMaster//Event Calendar 2.0//EN
METHOD:PUBLISH
X-PUBLISHED-TTL:P3D
REFRESH-INTERVAL:P3D
CALSCALE:GREGORIAN
BEGIN:VEVENT
DTSTART:20190508T150000Z
DTEND:20190509T000000Z
X-MICROSOFT-CDO-ALLDAYEVENT:FALSE
SUMMARY:Estimating and Scheduling for Profitable Business Operations
DESCRIPTION:Estimating and Scheduling for Profitable Business Operations\n\nThis course qualifies for: 6 CE for these NAHB designations: CAPS\, CGA\, CGB\, CGR\, GMB\, GMR\, CSP\, Master CSP\, CSP\, Master CSP\, CMP\, MIRM. 6 AIA/CES LU. 6 AIBD CE \n\n\n\nThe ability to effectively prepare for a project is vital to your success. Project preparation consists of multiple processes that work together and\, when performed effectively\, increase your efficiency and profitability\, improve client satisfaction and enhance team and vendor relationships. Come away with the knowledge and skills to perform two of the critical processes in project preparation: estimating costs and creating the schedule to complete the project.\n\n\n\nWho Should Take This Course?\n\nSmall-volume builders\, custom builders\, remodelers\, production builders\, project managers\, and lead carpenter\n\n\n\nInstructor: Joseph Irons\, CGR\, CAPS\, CGP\, GMR\, GMB\,
X-ALT-DESC;FMTTYPE=text/html:<h2 style="font-style:italic\;">Estimating and Scheduling for Profitable Business Operations</h2>\n\n<p><em>This course qualifies for: 6 CE for these NAHB designations: CAPS\, CGA\, CGB\, CGR\, GMB\, GMR\, CSP\, Master CSP\, CSP\, Master CSP\, CMP\, MIRM. 6 AIA/CES LU. 6 AIBD CE </em><br />\n<br />\nThe ability to effectively prepare for a project is vital to your success. Project preparation consists of multiple processes that work together and\, when performed effectively\, increase your efficiency and profitability\, improve client satisfaction and enhance team and vendor relationships. Come away with the knowledge and skills to perform two of the critical processes in project preparation: estimating costs and creating the schedule to complete the project.<br />\n<br />\nWho Should Take This Course?<br />\nSmall-volume builders\, custom builders\, remodelers\, production builders\, project managers\, and lead carpenter<br />\n<br />\n<em>Instructor: Joseph Irons\, CGR\, CAPS\, CGP\, GMR\, GMB\,</em></p>\n
LOCATION:MBA Pierce 3711 Center Street Tacoma\, WA 98409
UID:e.9280.3944
SEQUENCE:3
DTSTAMP:20260421T111551Z
URL:https://members.masterbuilderspierce.com/events/details/estimating-and-scheduling-for-profitable-business-operations-3944
END:VEVENT

END:VCALENDAR
