BEGIN:VCALENDAR
VERSION:2.0
PRODID:-//ChamberMaster//Event Calendar 2.0//EN
METHOD:PUBLISH
X-PUBLISHED-TTL:P3D
REFRESH-INTERVAL:P3D
CALSCALE:GREGORIAN
BEGIN:VEVENT
DTSTART:20180926T150000Z
DTEND:20180927T000000Z
X-MICROSOFT-CDO-ALLDAYEVENT:FALSE
SUMMARY:Estimating and Scheduling for Profitable Business Operations
DESCRIPTION:6 CE\, National Association of Home Builders (NAHB) ~ NAHB\n\n\n\nNEWLY UPDATED NAHB ESTIMATING & SCHEDULING COURSES IN ONLY 1 CLASS\n\n\n\nAudience: The intended audience for this course is small volume builders\, custom builders\, remodelers\, production builders\, project managers\, and lead carpenters. \n\n\n\nThe ability to effectively prepare for a project is vital to the success of any business. Project preparation consists of multiple processes that work together and\, when performed effectively\, enabling you to increase your efficiency\, achieve greater client satisfaction\, enhance team and vendor relationships and protect profitability. This course provides you with the knowledge and skills to perform two of the critical processes in project preparation: estimating costs and creating the schedule to complete the project.\n\n\n\nAs a graduate of this course\, participants will be able to: \n\n Illustrate how estimating and scheduling work together to effectively set up the project \n\n Identify the fundamentals of estimating to identify the costs (not the selling price) \n\n Use spreadsheets and packaged estimating systems \n\n Identify the fundamentals of scheduling \n\n Illustrate the schedule as a key communication tool\n\n\n\nInstructor: Ed van der Bogert\, Joseph Irons\, CGR\, CAPS\, CGP\, GMR\, GMB\, GMR
X-ALT-DESC;FMTTYPE=text/html:<span style="color: rgb(71\, 73\, 75)\; font-family: Arial\; font-size: 12.1px\;">6 CE\, National Association of Home Builders (NAHB) ~ NAHB</span><br style="color: rgb(71\, 73\, 75)\; font-family: Arial\; font-size: 12.1px\;" />\n<br style="color: rgb(71\, 73\, 75)\; font-family: Arial\; font-size: 12.1px\;" />\n<span style="color: rgb(71\, 73\, 75)\; font-family: Arial\; font-size: 12.1px\;">NEWLY UPDATED NAHB ESTIMATING &amp\; SCHEDULING COURSES IN ONLY 1 CLASS</span><br style="color: rgb(71\, 73\, 75)\; font-family: Arial\; font-size: 12.1px\;" />\n<br style="color: rgb(71\, 73\, 75)\; font-family: Arial\; font-size: 12.1px\;" />\n<span style="color: rgb(71\, 73\, 75)\; font-family: Arial\; font-size: 12.1px\;">Audience: The intended audience for this course is small volume builders\, custom builders\, remodelers\, production builders\, project managers\, and lead carpenters.&nbsp\;</span><br style="color: rgb(71\, 73\, 75)\; font-family: Arial\; font-size: 12.1px\;" />\n<br style="color: rgb(71\, 73\, 75)\; font-family: Arial\; font-size: 12.1px\;" />\n<span style="color: rgb(71\, 73\, 75)\; font-family: Arial\; font-size: 12.1px\;">The ability to effectively prepare for a project is vital to the success of any business. Project preparation consists of multiple processes that work together and\, when performed effectively\, enabling you to increase your efficiency\, achieve greater client satisfaction\, enhance team and vendor relationships and protect profitability. This course provides you with the knowledge and skills to perform two of the critical processes in project preparation: estimating costs and creating the schedule to complete the project.</span><br style="color: rgb(71\, 73\, 75)\; font-family: Arial\; font-size: 12.1px\;" />\n<br style="color: rgb(71\, 73\, 75)\; font-family: Arial\; font-size: 12.1px\;" />\n<span style="color: rgb(71\, 73\, 75)\; font-family: Arial\; font-size: 12.1px\;">As a graduate of this course\, participants will be able to:&nbsp\;</span><br style="color: rgb(71\, 73\, 75)\; font-family: Arial\; font-size: 12.1px\;" />\n<span style="color: rgb(71\, 73\, 75)\; font-family: Arial\; font-size: 12.1px\;">&bull\;Illustrate how estimating and scheduling work together to effectively set up the project&nbsp\;</span><br style="color: rgb(71\, 73\, 75)\; font-family: Arial\; font-size: 12.1px\;" />\n<span style="color: rgb(71\, 73\, 75)\; font-family: Arial\; font-size: 12.1px\;">&bull\;Identify the fundamentals of estimating to identify the costs (not the selling price)&nbsp\;</span><br style="color: rgb(71\, 73\, 75)\; font-family: Arial\; font-size: 12.1px\;" />\n<span style="color: rgb(71\, 73\, 75)\; font-family: Arial\; font-size: 12.1px\;">&bull\;Use spreadsheets and packaged estimating systems&nbsp\;</span><br style="color: rgb(71\, 73\, 75)\; font-family: Arial\; font-size: 12.1px\;" />\n<span style="color: rgb(71\, 73\, 75)\; font-family: Arial\; font-size: 12.1px\;">&bull\;Identify the fundamentals of scheduling&nbsp\;</span><br style="color: rgb(71\, 73\, 75)\; font-family: Arial\; font-size: 12.1px\;" />\n<span style="color: rgb(71\, 73\, 75)\; font-family: Arial\; font-size: 12.1px\;">&bull\;Illustrate the schedule as a key communication tool</span><br style="color: rgb(71\, 73\, 75)\; font-family: Arial\; font-size: 12.1px\;" />\n<br style="color: rgb(71\, 73\, 75)\; font-family: Arial\; font-size: 12.1px\;" />\n<span style="color: rgb(71\, 73\, 75)\; font-family: Arial\; font-size: 12.1px\;">Instructor: Ed van der Bogert\, Joseph Irons\, CGR\, CAPS\, CGP\, GMR\, GMB\, GMR</span>
LOCATION:MBA Pierce County 3711 Center St. Tacoma\, WA 98409
UID:e.9280.2381
SEQUENCE:3
DTSTAMP:20260421T113600Z
URL:https://members.masterbuilderspierce.com/events/details/estimating-and-scheduling-for-profitable-business-operations-2381
END:VEVENT

END:VCALENDAR
