BEGIN:VCALENDAR
VERSION:2.0
PRODID:-//ChamberMaster//Event Calendar 2.0//EN
METHOD:PUBLISH
X-PUBLISHED-TTL:P3D
REFRESH-INTERVAL:P3D
CALSCALE:GREGORIAN
BEGIN:VEVENT
DTSTART:20190905T180000Z
DTEND:20190905T200000Z
X-MICROSOFT-CDO-ALLDAYEVENT:FALSE
SUMMARY:Employment Law Trends & News
DESCRIPTION:This informative and informal discussion session\, provides the information you need to know about new employment laws enacted in the last year. Additionally\, the session discusses trends\, both nationally and regionally\, that could lead to new laws in this state. We will discuss the best practices to comply with the laws and the downside for non-compliance. Discussion will include Pregnancy Accommodation law\, Pay Equity Laws   Equal Pay Opportunity Act (EPOA)\, Fair Chance Act\, Ban the Box\, Salary History Questions\, Exempt vs. Non-Exempt Classifications   State vs. Department of Labor.\n\n\n\nInstructor: Juli Bacon\, JB Consulting Systems
X-ALT-DESC;FMTTYPE=text/html:This informative and informal discussion session\, provides the information you need to know about new employment laws enacted in the last year. Additionally\, the session discusses trends\, both nationally and regionally\, that could lead to new laws in this state. We will discuss the best practices to comply with the laws and the downside for non-compliance. Discussion will include Pregnancy Accommodation law\, Pay Equity Laws &ndash\; Equal Pay Opportunity Act (EPOA)\, Fair Chance Act\, Ban the Box\, Salary History Questions\, Exempt vs. Non-Exempt Classifications &ndash\; State vs. Department of Labor.<br />\n<br />\n<em>Instructor: Juli Bacon\, JB Consulting Systems</em>
LOCATION:MBA Pierce County 3711 Center St. Tacoma\, WA 98409
UID:e.9280.3813
SEQUENCE:3
DTSTAMP:20260421T102017Z
URL:https://members.masterbuilderspierce.com/events/details/employment-law-trends-news-3813
END:VEVENT

END:VCALENDAR
