BEGIN:VCALENDAR
VERSION:2.0
PRODID:-//ChamberMaster//Event Calendar 2.0//EN
METHOD:PUBLISH
X-PUBLISHED-TTL:P3D
REFRESH-INTERVAL:P3D
CALSCALE:GREGORIAN
BEGIN:VEVENT
DTSTART:20181030T170000Z
DTEND:20181030T180000Z
X-MICROSOFT-CDO-ALLDAYEVENT:FALSE
SUMMARY:DPC Development Committee
DESCRIPTION:The Design Professionals Council Steering committee plans\, coordinates\, and determines overall direction for the DPC meetings.
X-ALT-DESC;FMTTYPE=text/html:The Design Professionals Council Steering committee plans\, coordinates\, and determines overall direction for the DPC meetings.&nbsp\;
LOCATION:MBA Pierce Office 3711 Center Street Tacoma\, WA 98409
UID:e.9280.2338
SEQUENCE:3
DTSTAMP:20260421T082600Z
URL:https://members.masterbuilderspierce.com/events/details/dpc-development-committee-11-07-2018-2338
END:VEVENT

END:VCALENDAR
