BEGIN:VCALENDAR
VERSION:2.0
PRODID:-//ChamberMaster//Event Calendar 2.0//EN
METHOD:PUBLISH
X-PUBLISHED-TTL:P3D
REFRESH-INTERVAL:P3D
CALSCALE:GREGORIAN
BEGIN:VEVENT
DTSTART:20180710T230000Z
DTEND:20180711T000000Z
X-MICROSOFT-CDO-ALLDAYEVENT:FALSE
SUMMARY:DPC Development Committee
DESCRIPTION:The Design Professionals Council Steering committee plans\, coordinates\, and determines overall direction for the DPC meetings.
X-ALT-DESC;FMTTYPE=text/html:The Design Professionals Council Steering committee plans\, coordinates\, and determines overall direction for the DPC meetings.&nbsp\;
LOCATION:The Hub Tacoma\, WA
UID:e.9280.2334
SEQUENCE:3
DTSTAMP:20260421T123919Z
URL:https://members.masterbuilderspierce.com/events/details/dpc-development-committee-07-04-2018-2334
END:VEVENT

END:VCALENDAR
