BEGIN:VCALENDAR
VERSION:2.0
PRODID:-//ChamberMaster//Event Calendar 2.0//EN
METHOD:PUBLISH
X-PUBLISHED-TTL:P3D
REFRESH-INTERVAL:P3D
CALSCALE:GREGORIAN
BEGIN:VEVENT
DTSTART:20180404T223000Z
DTEND:20180404T233000Z
X-MICROSOFT-CDO-ALLDAYEVENT:FALSE
SUMMARY:DPC Development Committee
DESCRIPTION:The Design Professionals Council Steering committee plans\, coordinates\, and determines overall direction for the DPC meetings.
X-ALT-DESC;FMTTYPE=text/html:The Design Professionals Council Steering committee plans\, coordinates\, and determines overall direction for the DPC meetings.&nbsp\;
LOCATION:Poodle Dog Diner 1522 54th Ave. E Fife\, WA 98424
UID:e.9280.2331
SEQUENCE:3
DTSTAMP:20260421T183112Z
URL:https://members.masterbuilderspierce.com/events/details/dpc-development-committee-04-04-2018-2331
END:VEVENT

END:VCALENDAR
