BEGIN:VCALENDAR
VERSION:2.0
PRODID:-//ChamberMaster//Event Calendar 2.0//EN
METHOD:PUBLISH
X-PUBLISHED-TTL:P3D
REFRESH-INTERVAL:P3D
CALSCALE:GREGORIAN
BEGIN:VEVENT
DTSTART:20190809T003000Z
DTEND:20190809T033000Z
X-MICROSOFT-CDO-ALLDAYEVENT:FALSE
SUMMARY:Design Professionals Council Summer Social
DESCRIPTION:Come join the Design Professionals Council at the Summer Social Event! This year we will be taking a cruise on the My Girl Boat. This will be potluck style - please contact Shannon to let her know what side dish or dessert you would like to bring to share with the group. Also please bring your own beverage of choice (alcoholic or non-alcoholic). \n\n\n\n"My Girl is very comfortable in all seasons with 60-75 guests. She is a very beautiful 69 ft. yacht with a beam "width" of 18 ft. The interior is decorated in mahognany and teak woods\, lots of brass\, oriental rugs\, beautiful through-out with the northwest fall colors."
X-ALT-DESC;FMTTYPE=text/html:Come join the Design Professionals Council at the Summer Social Event! This year we will be taking a cruise on the <a href="https://www.mygirltheboat.com/">My Girl Boat</a>. <u><strong>This will be potluck style - please contact Shannon to let her know what side dish or dessert you would like to bring to share with the group. Also please bring your own beverage of choice (alcoholic or non-alcoholic).&nbsp\;</strong></u><br />\n<br />\n&quot\;<span style="color: rgb(12\, 60\, 96)\; font-family: &quot\;Open Sans&quot\;\, sans-serif\; font-size: 18px\; font-style: italic\;">My Girl is very comfortable in all seasons with 60-75 guests. She is a very beautiful 69 ft. yacht with a&nbsp\;</span><span style="margin: 0px\; padding: 0px\; border: 0px\; outline: 0px\; vertical-align: baseline\; background-image: initial\; background-position: 0px 0px\; background-size: initial\; background-repeat: initial\; background-attachment: initial\; background-origin: initial\; background-clip: initial\; color: rgb(12\, 60\, 96)\; font-family: &quot\;Open Sans&quot\;\, sans-serif\; font-size: 18px\; font-style: italic\;">beam &quot\;width&quot\; of 18 ft</span><span style="color: rgb(12\, 60\, 96)\; font-family: &quot\;Open Sans&quot\;\, sans-serif\; font-size: 18px\; font-style: italic\;">. The interior is decorated in mahognany and teak woods\, lots of brass\, oriental rugs\, beautiful through-out with the northwest fall colors.&quot\;</span>
LOCATION:My Girl Boat 650 Dock Street\, Tacoma\, WA\, 98402 5-5:25 p.m. - Boarding 5:30 p.m. - Depart 8:30 p.m. - Return
UID:e.9280.1254
SEQUENCE:3
DTSTAMP:20260421T112133Z
URL:https://members.masterbuilderspierce.com/events/details/design-professionals-council-summer-social-1254
END:VEVENT

END:VCALENDAR
