BEGIN:VCALENDAR
VERSION:2.0
PRODID:-//ChamberMaster//Event Calendar 2.0//EN
METHOD:PUBLISH
X-PUBLISHED-TTL:P3D
REFRESH-INTERVAL:P3D
CALSCALE:GREGORIAN
BEGIN:VEVENT
DTSTART:20171013T003000Z
DTEND:20171013T023000Z
X-MICROSOFT-CDO-ALLDAYEVENT:FALSE
SUMMARY:Design Professionals Council Roundtables at Pental Surfaces
DESCRIPTION:Join the Design Professionals Council for their annual Roundtables meeting hosted by Pental Surfaces. Don't miss your chance to speak with industry pro's on the newest techniques and trends in today's home design field. \n\n\n\nWe have three amazing roundtable discussions this year\, including: \n\n\n\nMark Myers - Myers Engineering: When to bring in an engineer... Identifying & removing load bearing walls\n\n\n\nDrew Webster - Doxa Painting: The tips and tricks to make sure your finished product looks professional and pristine. \n\n\n\nPental Surfaces: New slap products\, grout options\, and the perfect surface for your customers.
X-ALT-DESC;FMTTYPE=text/html:Join the Design Professionals Council for their annual Roundtables meeting hosted by Pental Surfaces. Don&#39\;t miss your chance to speak with industry pro&#39\;s on the newest techniques and trends in today&#39\;s home design field.&nbsp\;<br />\n<br />\nWe have three amazing roundtable discussions this year\, including:&nbsp\;<br />\n<br />\n<span style="font-family:calibri\,sans-serif\;"><span style="font-size:11.0pt\;"><strong>Mark Myers - Myers Engineering</strong>: When to bring in an engineer... Identifying &amp\; removing load bearing walls</span></span><br />\n<br />\n<strong>Drew&nbsp\;Webster - Doxa Painting</strong>: The tips and tricks to make sure your finished product looks professional and pristine.&nbsp\;<br />\n<br />\n<strong>Pental&nbsp\;Surfaces</strong>: New slap products\, grout options\, and the perfect surface for your customers.&nbsp\;
LOCATION:Pental Surfaces 3900 Industry Dr E\, Suite A Fife\, WA 98424
UID:e.9280.1232
SEQUENCE:3
DTSTAMP:20260422T022347Z
URL:https://members.masterbuilderspierce.com/events/details/design-professionals-council-roundtables-at-pental-surfaces-1232
END:VEVENT

END:VCALENDAR
