BEGIN:VCALENDAR
VERSION:2.0
PRODID:-//ChamberMaster//Event Calendar 2.0//EN
METHOD:PUBLISH
X-PUBLISHED-TTL:P3D
REFRESH-INTERVAL:P3D
CALSCALE:GREGORIAN
BEGIN:VEVENT
DTSTART:20180810T003000Z
DTEND:20180810T023000Z
X-MICROSOFT-CDO-ALLDAYEVENT:FALSE
SUMMARY:Design Professionals Council Potluck at Barb's
DESCRIPTION:Its DPC Potluck/Picnic time!! Join the Design Professionals Council at Barb Berntsen's house for this annual summertime tradition. The DPC takes care of the main dish ... members bring the rest of the treats! \n\n\n\nPlease bring your best dish - salad\, side\, or dessert!
X-ALT-DESC;FMTTYPE=text/html:<span style="background:white\;"><span style="color:#333333\;"><span style="font-family:arial\,sans-serif\;"><span style="font-size:10.0pt\;">Its&nbsp\;</span></span></span></span><span style="color:#333333\;"><span style="font-family:arial\,sans-serif\;"><span style="font-size:10.0pt\;">DPC</span></span></span><span style="background:white\;"><span style="color:#333333\;"><span style="font-family:arial\,sans-serif\;"><span style="font-size:10.0pt\;">&nbsp\;Potluck/Picnic time!! Join the Design Professionals Council at Barb&nbsp\;</span></span></span></span><span style="color:#333333\;"><span style="font-family:arial\,sans-serif\;"><span style="font-size:10.0pt\;">Berntsen&#39\;s</span></span></span><span style="background:white\;"><span style="color:#333333\;"><span style="font-family:arial\,sans-serif\;"><span style="font-size:10.0pt\;">&nbsp\;house for this annual summertime tradition. The&nbsp\;</span></span></span></span><span style="color:#333333\;"><span style="font-family:arial\,sans-serif\;"><span style="font-size:10.0pt\;">DPC</span></span></span><span style="background:white\;"><span style="color:#333333\;"><span style="font-family:arial\,sans-serif\;"><span style="font-size:10.0pt\;">&nbsp\;takes care of the main dish ... members bring the rest of the treats!&nbsp\;</span></span></span></span><br />\n<br />\n<span style="color:#333333\;"><span style="font-family:arial\,sans-serif\;"><span style="font-size:10.0pt\;"><span style="background:white\;">Please bring your best dish - salad\, side\, or dessert!</span></span></span></span>
LOCATION:Home of Barb Berntsen 4824 Marine View Drive Tacoma\, WA 98422
UID:e.9280.1242
SEQUENCE:3
DTSTAMP:20260421T124505Z
URL:https://members.masterbuilderspierce.com/events/details/design-professionals-council-potluck-at-barb-s-1242
END:VEVENT

END:VCALENDAR
