BEGIN:VCALENDAR
VERSION:2.0
PRODID:-//ChamberMaster//Event Calendar 2.0//EN
METHOD:PUBLISH
X-PUBLISHED-TTL:P3D
REFRESH-INTERVAL:P3D
CALSCALE:GREGORIAN
BEGIN:VEVENT
DTSTART:20170811T003000Z
DTEND:20170811T023000Z
X-MICROSOFT-CDO-ALLDAYEVENT:FALSE
SUMMARY:Design Professionals Council Potluck
DESCRIPTION:Its DPC Potluck/Picnic time!! Join the Design Professionals Council at Barb Berntsen's house for this annual summertime tradition. The DPC takes care of the main dish ... members bring the rest of the treats! \n\n\n\nPlease bring your best dish - salad\, side\, or dessert!
X-ALT-DESC;FMTTYPE=text/html:Its DPC Potluck/Picnic time!! Join the Design Professionals Council at Barb Berntsen&#39\;s&nbsp\;house for this annual summertime tradition. The DPC takes care of the main dish ... members bring the rest of the treats!&nbsp\;<br />\n<br />\nPlease bring your best dish - salad\, side\, or dessert!
LOCATION:Home of Barb Berntsen 4824 Marine View Drive Tacoma\, WA 98422
UID:e.9280.1230
SEQUENCE:3
DTSTAMP:20260422T053226Z
URL:https://members.masterbuilderspierce.com/events/details/design-professionals-council-potluck-1230
END:VEVENT

END:VCALENDAR
