BEGIN:VCALENDAR
VERSION:2.0
PRODID:-//ChamberMaster//Event Calendar 2.0//EN
METHOD:PUBLISH
X-PUBLISHED-TTL:P3D
REFRESH-INTERVAL:P3D
CALSCALE:GREGORIAN
BEGIN:VEVENT
DTSTART:20161116T013000Z
DTEND:20161116T033000Z
X-MICROSOFT-CDO-ALLDAYEVENT:FALSE
SUMMARY:Design Professionals Council-Pantages Theater Tour
DESCRIPTION:Mark your calendars for this special night!\n\n\n\nOn Tuesday November 15th\, join us for a Tour Backstage at the Tacoma Pantages Theater. Scott Painter\, the Operations & House Manager of the Pantages\, will be leading the tour and sharing his vast knowledge of the history of this great venue including information on the renovation / restoration. \n\n\n\nPlease note the special date - TUESDAY\, November 15
X-ALT-DESC;FMTTYPE=text/html:Mark your calendars for this special night!<br />\n<br />\nOn&nbsp\;<strong>Tuesday</strong>&nbsp\;November 15th\, join us for a Tour Backstage at the Tacoma Pantages Theater. Scott Painter\, the Operations &amp\; House Manager of the Pantages\, will be leading the tour and sharing his vast knowledge of the history of this great venue including information on the renovation / restoration.&nbsp\;<br />\n<br />\n<strong><em>Please note the&nbsp\;<u>special</u>&nbsp\;date - TUESDAY\, November 15</em></strong>
LOCATION:Tacoma Pantages Theater 901 Broadway Tacoma\, WA 98402
UID:e.9280.1221
SEQUENCE:3
DTSTAMP:20260422T184953Z
URL:https://members.masterbuilderspierce.com/events/details/design-professionals-council-pantages-theater-tour-1221
END:VEVENT

END:VCALENDAR
