BEGIN:VCALENDAR
VERSION:2.0
PRODID:-//ChamberMaster//Event Calendar 2.0//EN
METHOD:PUBLISH
X-PUBLISHED-TTL:P3D
REFRESH-INTERVAL:P3D
CALSCALE:GREGORIAN
BEGIN:VEVENT
DTSTART:20190510T003000Z
DTEND:20190510T023000Z
X-MICROSOFT-CDO-ALLDAYEVENT:FALSE
SUMMARY:Design Professionals Council Meeting - Second Use Building Materials
DESCRIPTION:Please join us this month at Second Use Building Materials! We will hear from Mary Anne Carter\, Outreach Director\, about inventory and services.\n\n\n\nSecond Use's ever-changing stock of reclaimed building materials is harvested locally from homes and commercial spaces slated for remodel or demolition. 3\,500 tons of doors\, cabinets\, windows\, lighting\, lumber\, hardware\, furniture\, and more are diverted from the landfill each year through our Tacoma and Seattle retail outlets.  This process provides both a more affordable\, sustainable alternative to buying new and a mechanism for passing on the stories that inhabit the homes and businesses of the Puget Sound region. Remodeling?  Second Use makes keeping reusable building materials out of the landfill easy and free. We offer free drop off\, pick up\, and material salvage for qualifying used building materials. Whether you are doing a full demo or just a light remodel\, we offer a range of services that save the Earth and your wallet. Learn more about our services at: www.seconduse.com/salvage and browse our inventory online anytime at www.seconduse.com/inventory
X-ALT-DESC;FMTTYPE=text/html:<span style="font-family:calibri\,sans-serif\;"><span style="font-size:11.0pt\;">Please join us this month at Second Use Building Materials! We will hear from Mary Anne Carter\, Outreach Director\, about inventory and services.<br />\n<br />\nSecond Use&#39\;s ever-changing stock of reclaimed building materials is harvested locally from homes and commercial spaces slated for remodel or demolition. 3\,500 tons of doors\,&nbsp\;cabinets\, windows\, lighting\, lumber\, hardware\, furniture\, and more are diverted from the landfill each year through our Tacoma and Seattle retail outlets. &nbsp\;This process provides both a&nbsp\;more affordable\, sustainable alternative to buying new and a mechanism for passing on the stories that inhabit the homes and businesses of the Puget Sound region.&nbsp\;Remodeling?&nbsp\; Second Use makes keeping reusable building&nbsp\;materials out of the landfill easy and free.&nbsp\;We offer free drop off\, pick up\, and material salvage for&nbsp\;qualifying used building materials. Whether you are doing a full&nbsp\;demo or&nbsp\;just a light remodel\, we offer a range of services that&nbsp\;save the Earth and your wallet.&nbsp\;Learn more about our services at: www.<a href="http://seconduse.com/salvage">seconduse.com/salvage</a>&nbsp\;and browse our inventory online anytime at&nbsp\;<a href="http://www.seconduse.com/inventory">www.seconduse.com/inventory</a></span></span>
LOCATION:Second Use Building Materials 2328 Fawcett Ave Tacoma\, WA 98402
UID:e.9280.1251
SEQUENCE:3
DTSTAMP:20260421T100149Z
URL:https://members.masterbuilderspierce.com/events/details/design-professionals-council-meeting-second-use-building-materials-1251
END:VEVENT

END:VCALENDAR
