BEGIN:VCALENDAR
VERSION:2.0
PRODID:-//ChamberMaster//Event Calendar 2.0//EN
METHOD:PUBLISH
X-PUBLISHED-TTL:P3D
REFRESH-INTERVAL:P3D
CALSCALE:GREGORIAN
BEGIN:VEVENT
DTSTART:20161014T003000Z
DTEND:20161014T023000Z
X-MICROSOFT-CDO-ALLDAYEVENT:FALSE
SUMMARY:Design Professionals Council Meeting - DPC Roundtables
DESCRIPTION:Join the Design Professionals Council for the most popular event of the year!\n\n\n\nThis year's round table event includes:\n\nTacoma Antique Lighting - sponsored by Wren & Willow\n\nCustom Wood Tops - Presented by Richard Sundene of Grothouse Wood Tops\n\nMarketing - Presented by Billie Jo Hyland of Hyland Cabinetworks
X-ALT-DESC;FMTTYPE=text/html:Join the Design Professionals Council for the most popular event of the year!<br />\n<br />\nThis year&#39\;s round table event includes:<br />\nTacoma Antique Lighting - sponsored by Wren &amp\; Willow<br />\nCustom Wood Tops - Presented by Richard Sundene of&nbsp\;Grothouse&nbsp\;Wood Tops<br />\nMarketing - Presented by Billie Jo Hyland of Hyland Cabinetworks&nbsp\;
LOCATION:Wren & Willow Oak Brothers Antique Mall 5104 N Pearl St Tacoma
UID:e.9280.1220
SEQUENCE:3
DTSTAMP:20260422T215739Z
URL:https://members.masterbuilderspierce.com/events/details/design-professionals-council-meeting-dpc-roundtables-10-13-2016-1220
END:VEVENT

END:VCALENDAR
