BEGIN:VCALENDAR
VERSION:2.0
PRODID:-//ChamberMaster//Event Calendar 2.0//EN
METHOD:PUBLISH
X-PUBLISHED-TTL:P3D
REFRESH-INTERVAL:P3D
CALSCALE:GREGORIAN
BEGIN:VEVENT
DTSTART:20160812T003000Z
DTEND:20160812T023000Z
X-MICROSOFT-CDO-ALLDAYEVENT:FALSE
SUMMARY:Design Professionals Council Meeting - DPC Potluck Picnic
DESCRIPTION:Join us for the annual DPC Potluck picnic. Bring your favorite dish\, appetizer or dessert to share! Salmon\, chicken and beverages will be provided.
X-ALT-DESC;FMTTYPE=text/html:Join us for the annual DPC Potluck picnic. Bring your favorite dish\, appetizer or dessert to share! Salmon\, chicken and beverages will be provided.
LOCATION:Home of Barb Bernsten: 4824 Marine View Drive Tacoma\, WA 98422
UID:e.9280.1218
SEQUENCE:3
DTSTAMP:20260422T232249Z
URL:https://members.masterbuilderspierce.com/events/details/design-professionals-council-meeting-dpc-potluck-picnic-08-11-2016-1218
END:VEVENT

END:VCALENDAR
