BEGIN:VCALENDAR
VERSION:2.0
PRODID:-//ChamberMaster//Event Calendar 2.0//EN
METHOD:PUBLISH
X-PUBLISHED-TTL:P3D
REFRESH-INTERVAL:P3D
CALSCALE:GREGORIAN
BEGIN:VEVENT
DTSTART:20190913T003000Z
DTEND:20190913T023000Z
X-MICROSOFT-CDO-ALLDAYEVENT:FALSE
SUMMARY:Design Professionals Council Meeting at Willis Supply Corporation
DESCRIPTION:Come join us this month for the Design Professionals Council Meeting at Willis Supply Corporation! They will be displaying a Corian solid surface re-finishing clinic with a hands on activity & Corian Quartz. They will also have a FENIX discussion with tactile displays. \n\n\n\nYou won't want to miss it!
X-ALT-DESC;FMTTYPE=text/html:Come join us this month for the Design Professionals Council Meeting at Willis Supply Corporation! They will be displaying a <a href="https://chambermaster.blob.core.windows.net/userfiles/UserFiles/chambers/9280/CMS/PDF_Documents/Corian-Story.pdf">Corian solid surface re-finishing</a> clinic with a hands on activity &amp\; <a href="https://chambermaster.blob.core.windows.net/userfiles/UserFiles/chambers/9280/CMS/PDF_Documents/CQ---Made-in-Canada-June-2019.pdf">Corian Quartz</a>. They will also have a <a href="https://chambermaster.blob.core.windows.net/userfiles/UserFiles/chambers/9280/CMS/PDF_Documents/Fenix-NTM---Characteristics.pdf">FENIX </a>discussion with tactile displays.&nbsp\;<br />\n<br />\nYou won&#39\;t want to miss it!
LOCATION:Willis Supply Corporation 9805 32nd Ave S Lakewood WA. 98499 *Enter through the glass doors and head up the stairs to Willis*
UID:e.9280.1255
SEQUENCE:3
DTSTAMP:20260421T103206Z
URL:https://members.masterbuilderspierce.com/events/details/design-professionals-council-meeting-at-willis-supply-corporation-1255
END:VEVENT

END:VCALENDAR
